Workbook
Name Azua: Prov!$C$3:$C$12
Name Bahoruco: Prov!$C$13:$C$17
Name Barahona: Prov!$C$18:$C$28
Name CodigoActividad: 'Formulario PPGR2'!$H$19:$H$286
Name Dajabon: Prov!$C$29:$C$33
Name Dajabón: Prov!$C$29:$C$33
Name Distrito_Nacional: Prov!$C$2
Name Duarte: Prov!$C$34:$C$40
Name EE.1: 'PEI SNS 2025-2028'!$D$3:$D$15
Name EE.2: 'PEI SNS 2025-2028'!$D$16:$D$17
Name EE.3: 'PEI SNS 2025-2028'!$D$18:$D$27
Name El_Seibo: Prov!$C$41:$C$42
Name Elias_Pina: Prov!$C$43:$C$48
Name Elías_Piña: Prov!$C$43:$C$48
Name Espaillat: Prov!$C$49:$C$52
Name Hato_Mayor: Prov!$C$53:$C$55
Name Hermanas_Mirabal: Prov!$C$56:$C$58
Name Independencia: Prov!$C$59:$C$64
Name La_Altagracia: Prov!$C$65:$C$66
Name La_Romana: Prov!$C$67:$C$69
Name La_Vega: Prov!$C$70:$C$73
Name Le.1: Obj!$D$122:$D$124
Name Le.2: Obj!$D$125:$D$127
Name Le.3: Obj!$D$128:$D$134
Name Le.4: Obj!$D$134
Name ls_ComprayAlquiler: Catalogo!$G$34:$G$42
Name ls_Departamento: Catalogo!$D$37:$D$97
Name Ls_DepartamentosSRS: Catalogo!$G$170:$G$182
Name Ls_DependenciasSRS: Catalogo!$B$137:$B$142
Name ls_Direccion: Catalogo!$D$33:$D$34
Name Ls_DivisionesSRS: Catalogo!$E$145:$E$161
Name ls_ejes_estrategicos: tbl_ejes_estrategicos[Ejes Estratégicos]
Name Ls_Estructura: Catalogo!$B$24:$B$29
Name Ls_GerenciasSRS: Catalogo!$E$164:$E$166
Name Ls_Medio_Verificacion: Catalogo!$B$188:$B$207
Name Ls_ObjEstrategico: Obj!$G$6:$G$21
Name Ls_Oficina: Catalogo!$D$127:$D$130
Name Ls_OficinasSRS: Catalogo!$E$179:$E$181
Name ls_Regiones: Catalogo!$B$10:$B$20
Name ls_SubDireccion: Catalogo!$D$100:$D$120
Name ls_TiposAcciones: Catalogo!$G$11:$G$14
Name ls_UnidadesSRS: Catalogo!$B$145:$B$173
Name lsAcabadosTextiles: Insumos!$C$2:$C$3
Name lsAireAcondicionado: Insumos!$C$333:$C$334
Name lsAlimentosyBebidas: Insumos!$C$4:$C$23
Name lsArticulosdePlastico: Insumos!$C$24:$C$30
Name lsElectrodomesticos: Insumos!$C$31:$C$35
Name lsEquiposComputos: Insumos!$C$132:$C$136
Name lsEquiposMedicos: Insumos!$C$44:$C$131
Name lsEquiposSeguridad: Insumos!$C$137:$C$138
Name lsEquiposTransporte: Insumos!$C$526:$C$528
Name lsEventosGenerales: Insumos!$C$139:$C$141
Name lsFuentesFinanciamiento: LSIns!$F$5:$F$8
Name lsGasoil: Insumos!$C$142:$C$149
Name lsHerramientasMenores: Insumos!$C$150:$C$179
Name lsImpresionyEncuadernacion: Insumos!$C$180
Name lsInsumos: LSIns!$B$5:$B$45
Name lsInsumosEquipos: LSIns!$F$16:$F$31
Name lsLlantasyNeumaticos: Insumos!$C$181:$C$188
Name lsMantenimiento: Insumos!$C$189:$C$202

Sheet Resumen
I1: Siglas Dependencias DC-SNS
A2: Servicio Nacional de Salud | I2: Dirección Ejecutiva (DE)
A3: Dirección de Planificación y Desarrollo | I3: Atención a Usuarios (DAU)
I4: Laboratorio e Imágenes (LCI)
A5: Cantidad acciones/actividades/trimestre | I5: Cooperación Internacional (COP)
A6: Primer Trimestre | B6: =+'Formulario PPGR2'!$J$287+'Formulario PPGR2'!$K$287+'Formulario PPGR2'!$L$287 -> 260 | I6: Calidad Institucional (DCG)
A7: Segundo Trimestre | B7: =+'Formulario PPGR2'!$M$287+'Formulario PPGR2'!$N$287+'Formulario PPGR2'!$O$287 -> 334 | I7: Administración (ADM)
A8: Tercer Trimestre | B8: =+'Formulario PPGR2'!$P$287+'Formulario PPGR2'!$Q$287+'Formulario PPGR2'!$R$287 -> 311 | I8: Dirección Centros Hospitalarios (DCH)
A9: Cuarto Trimestre | B9: =+'Formulario PPGR2'!$S$287+'Formulario PPGR2'!$T$287+'Formulario PPGR2'!$U$287 -> 288 | I9: Servicios de Atención Emergencias Extrahospitalaria (DAEH)
A10: Total actividades del año | B10: =SUM(B6:B9) -> 1193 | I10: Comunicaciones (DCE)
I11: Financiero (DFI)
I12: Gestión Clínica (DGC)
I13: Proyectos Institucionales (DPI)
I14: Cuidados de Enfermería (ENF)
I15: Desarrollo Institucional (DDI)
I16: Seguimiento, Evaluación y Calidad de los Servicios de Salud (GCSS)
A17: Tabla Resumen POA | B17: {=+'Formulario PPGR1'!L2:N2} -> 2026 | C17: 0 | D17: 0 | I17: Oficina Equidad Género (OEG)
A18: Área Organizacional | B18: Presupuesto | C18: Nº Productos | D18: Nº Actividades | E18: % (Productos) | F18: % (Actividades) | G18: % (Presupuesto) | I18: Recursos Humanos (DRH)
E19: =+C19/$C$37 -> #DIV/0! | F19: =+D19/$D$37 -> #DIV/0! | G19: =+B19/$B$37 -> #DIV/0! | I19: Infraestructura y Equipos (DIE)
E20: =+C20/$C$37 -> #DIV/0! | F20: =+D20/$D$37 -> #DIV/0! | G20: =+B20/$B$37 -> #DIV/0! | I20: Jurídica (DCJ)
E21: =+C21/$C$37 -> #DIV/0! | F21: =+D21/$D$37 -> #DIV/0! | G21: =+B21/$B$37 -> #DIV/0! | I21: Formulación, Monitoreo y Evaluación de PPP (FME)
E22: =+C22/$C$37 -> #DIV/0! | F22: =+D22/$D$37 -> #DIV/0! | G22: =+B22/$B$37 -> #DIV/0! | I22: Planificación (DPD)
E23: =+C23/$C$37 -> #DIV/0! | F23: =+D23/$D$37 -> #DIV/0! | G23: =+B23/$B$37 -> #DIV/0! | I23: Dirección Primer Nivel (DPN)
E24: =+C24/$C$37 -> #DIV/0! | F24: =+D24/$D$37 -> #DIV/0! | G24: =+B24/$B$37 -> #DIV/0! | I24: Asistencia a la Red (DAR)
E25: =+C25/$C$37 -> #DIV/0! | F25: =+D25/$D$37 -> #DIV/0! | G25: =+B25/$B$37 -> #DIV/0! | I25: Seguridad Física (DSF)
E26: =+C26/$C$37 -> #DIV/0! | F26: =+D26/$D$37 -> #DIV/0! | G26: =+B26/$B$37 -> #DIV/0! | I26: Sistema de Información (DGI)
E27: =+C27/$C$37 -> #DIV/0! | F27: =+D27/$D$37 -> #DIV/0! | G27: =+B27/$B$37 -> #DIV/0! | I27: Tecnología de la Información (DTI)
E28: =+C28/$C$37 -> #DIV/0! | F28: =+D28/$D$37 -> #DIV/0! | G28: =+B28/$B$37 -> #DIV/0! | I28: Monitoreo Calidad de los Servicios de Salud (MCS)
E29: =+C29/$C$37 -> #DIV/0! | F29: =+D29/$D$37 -> #DIV/0! | G29: =+B29/$B$37 -> #DIV/0! | I29: Materno-Infantil (MIA)
E30: =+C30/$C$37 -> #DIV/0! | F30: =+D30/$D$37 -> #DIV/0! | G30: =+B30/$B$37 -> #DIV/0! | I30: Oficina de Acceso a la Información (OAI)
... E36: =+C36/$C$37 -> #DIV/0! | F36: =+D36/$D$37 -> #DIV/0! | G36: =+B36/$B$37 -> #DIV/0! | I36: Salud Mental (DSM)
A37: Total | B37: =SUM(B19:B36) -> 0 | C37: =SUM(C19:C36) -> 0 | D37: =SUM(D19:D36) -> 0 | E37: =SUM(E19:E36) -> #DIV/0! | F37: =SUM(F19:F36) -> #DIV/0! | G37: =SUM(G19:G36) -> #DIV/0! | I37: Compras y Contrataciones (DCC)
I38: Archivo y Correspondencia (DAC)
I39: Servicios Generales (DSG)
I40: Activo Fijo (DAF)
I41: Almacén y Suministros (DAS)
I42: Litigios (LIT)
I43: Elaboración de Documentos Legales (EDL)
I44: Gestión de Servicios de Laboratorio y Sangre (GLS)
I45: Gestión Servicios de Imágenes (GSI)
...

Sheet Formulario PPGR1
I2: Servicio Nacional de Salud | K2: Año del POA: | L2: 2026
I3: Dirección de Planificación y Desarrollo | K3: Servicio Regional de Salud: | L3: R4 - SRS Cibao Noroeste | Q3: =VLOOKUP(L3,Catalogo!$B$10:$C$20,2,FALSE) -> Ls_DependenciasSRS
I4: Plan Operativo Anual | K4: Estructura: | L4: Gerencia | Q4: =IF(Q3="Ls_Estructura",VLOOKUP(L4,Catalogo!B24:C28,2,FALSE),VLOOKUP(L4,Catalogo!$B$137:$C$141,2,FALSE)) -> Ls_GerenciasSRS
I5: Identificación de Productos/Resultados | K5: =IF(Q3="Ls_Estructura",VLOOKUP($L$4,Catalogo!$B$24:$D$29,3,FALSE),VLOOKUP($L$4,Catalogo!$B$137:$D$141,3,FALSE)) -> Gerencias: | L5: Regional (Consolidado)
B8: ID_Dependendencia | C8: POA | D8: SRS | E8: AREA | F8: Cod_Eje | G8: Cod_re | H8: Eje Estratégico | I8: Resultado Estratégico Institucional | J8: Productos | K8: Indicador | L8: Unidad de medida | M8: Línea Base | N8: Meta | O8: Supuestos | P8: Dependencia responsable | Q8: Dependencia de apoyo
B9: =IF('Formulario PPGR1'!$H9="","",CONCATENATE('Formulario PPGR1'!$C9,".",'Formulario PPGR1'!$D9,".",'Formulario PPGR1'!$E9,".",#REF!)) -> #REF! | C9: =IF('Formulario PPGR1'!$H9="","",#REF!) -> #REF! | D9: =IF('Formulario PPGR1'!$H9="","",#REF!) -> #REF! | E9: =IF('Formulario PPGR1'!$H9="","",#REF!) -> #REF! | F9: =_xlfn.XLOOKUP($H9,tbl_ejes_estrategicos[Ejes Estratégicos],tbl_ejes_estrategicos[Cod_Eje],"",0) -> EE.1 | G9: =_xlfn.XLOOKUP(Tabla3[[#This Row],[Resultado Estratégico Institucional]],Tabla13[RE Concatenado],Tabla13[RE],"",0) -> RE1.1 | H9: EE.1 - Desarrollo y fortalecimiento de las redes integradas de servicios de salud, fundamentada en el Modelo de Atención | I9: RE1.1 - Reducidos los niveles de morbilidad y mortalidad materna e infantil por causas prevenibles en la población materno-infantil del país, disminuyendo la mortalidad materna de 127.33 y la mortalidad infantil de 18.44 en 2023 a 89.13 y 16.56 en 2028 en todas las regiones del territorio nacional. | J9: 1.1.1 Niños, niñas y Adolescentes reciben atención médica y servicios de salud basado en protocolos nacionales e internacionales. | P9: Materno Infantil y Adolescentes | Q9: Primer Nivel Centros Hospitalarios
B10: =IF('Formulario PPGR1'!$H10="","",CONCATENATE('Formulario PPGR1'!$C10,".",'Formulario PPGR1'!$D10,".",'Formulario PPGR1'!$E10,".",#REF!)) -> #REF! | C10: =IF('Formulario PPGR1'!$H10="","",#REF!) -> #REF! | D10: =IF('Formulario PPGR1'!$H10="","",#REF!) -> #REF! | E10: =IF('Formulario PPGR1'!$H10="","",#REF!) -> #REF! | F10: =_xlfn.XLOOKUP($H10,tbl_ejes_estrategicos[Ejes Estratégicos],tbl_ejes_estrategicos[Cod_Eje],"",0) -> EE.1 | G10: =_xlfn.XLOOKUP(Tabla3[[#This Row],[Resultado Estratégico Institucional]],Tabla13[RE Concatenado],Tabla13[RE],"",0) -> RE1.1 | H10: EE.1 - Desarrollo y fortalecimiento de las redes integradas de servicios de salud, fundamentada en el Modelo de Atención | I10: RE1.1 - Reducidos los niveles de morbilidad y mortalidad materna e infantil por causas prevenibles en la población materno-infantil del país, disminuyendo la mortalidad materna de 127.33 y la mortalidad infantil de 18.44 en 2023 a 89.13 y 16.56 en 2028 en todas las regiones del territorio nacional. | J10: 1.1.2 Recién nacidos reciben atención medica y servicios de salud neonatal basados en protocolos y normas nacionales e internacionales | P10: Materno Infantil y Adolescentes | Q10: Primer Nivel Centros Hospitalarios
B11: =IF('Formulario PPGR1'!$H11="","",CONCATENATE('Formulario PPGR1'!$C11,".",'Formulario PPGR1'!$D11,".",'Formulario PPGR1'!$E11,".",#REF!)) -> #REF! | C11: =IF('Formulario PPGR1'!$H11="","",#REF!) -> #REF! | D11: =IF('Formulario PPGR1'!$H11="","",#REF!) -> #REF! | E11: =IF('Formulario PPGR1'!$H11="","",#REF!) -> #REF! | F11: =_xlfn.XLOOKUP($H11,tbl_ejes_estrategicos[Ejes Estratégicos],tbl_ejes_estrategicos[Cod_Eje],"",0) -> EE.1 | G11: =_xlfn.XLOOKUP(Tabla3[[#This Row],[Resultado Estratégico Institucional]],Tabla13[RE Concatenado],Tabla13[RE],"",0) -> RE1.2 | H11: EE.1 - Desarrollo y fortalecimiento de las redes integradas de servicios de salud, fundamentada en el Modelo de Atención | I11: RE1.2 - Aumentado el cumplimiento normativo para reducir la incidencia de complicaciones neonatales y maternas, pasando de un promedio del 75.5% en el año 2023 al 88% en el año 2028 en todas las regiones de la Red Pública de Servicios de Salud. | J11: 1.2.1 Gestantes reciben atención médica y servicios de salud materna basados en protocolos y normas nacionales e internacionales. | P11: Materno Infantil y Adolescentes | Q11: Primer Nivel Centros Hospitalarios
B12: =IF('Formulario PPGR1'!$H12="","",CONCATENATE('Formulario PPGR1'!$C12,".",'Formulario PPGR1'!$D12,".",'Formulario PPGR1'!$E12,".",#REF!)) -> #REF! | C12: =IF('Formulario PPGR1'!$H12="","",#REF!) -> #REF! | D12: =IF('Formulario PPGR1'!$H12="","",#REF!) -> #REF! | E12: =IF('Formulario PPGR1'!$H12="","",#REF!) -> #REF! | F12: =_xlfn.XLOOKUP($H12,tbl_ejes_estrategicos[Ejes Estratégicos],tbl_ejes_estrategicos[Cod_Eje],"",0) -> EE.1 | G12: =_xlfn.XLOOKUP(Tabla3[[#This Row],[Resultado Estratégico Institucional]],Tabla13[RE Concatenado],Tabla13[RE],"",0) -> RE1.5 | H12: EE.1 - Desarrollo y fortalecimiento de las redes integradas de servicios de salud, fundamentada en el Modelo de Atención | I12: RE1.5 - Reducida la morbilidad y mortalidad prematura por enfermedades no transmisibles en personas de 30 a 69 años, en un 20% al año 2028, mediante la implementación de intervenciones integrales de prevención, diagnóstico temprano y tratamiento oportuno en los establecimientos de la Red Pública. | J12: 1.5.1 La población con riesgo o diagnóstico de hipertensión y diabetes recibe servicios integrales de prevención, diagnóstico, manejo y seguimiento de enfermedades crónicas no transmisibles, fortalecidos mediante la implementación del enfoque HEARTS. | P12: Primer Nivel | V12: Desarrollo y Gestión de la Red de Servicios
B13: =IF('Formulario PPGR1'!$H13="","",CONCATENATE('Formulario PPGR1'!$C13,".",'Formulario PPGR1'!$D13,".",'Formulario PPGR1'!$E13,".",#REF!)) -> #REF! | C13: =IF('Formulario PPGR1'!$H13="","",#REF!) -> #REF! | D13: =IF('Formulario PPGR1'!$H13="","",#REF!) -> #REF! | E13: =IF('Formulario PPGR1'!$H13="","",#REF!) -> #REF! | F13: =_xlfn.XLOOKUP($H13,tbl_ejes_estrategicos[Ejes Estratégicos],tbl_ejes_estrategicos[Cod_Eje],"",0) -> EE.1 | G13: =_xlfn.XLOOKUP(Tabla3[[#This Row],[Resultado Estratégico Institucional]],Tabla13[RE Concatenado],Tabla13[RE],"",0) -> RE1.5 | H13: EE.1 - Desarrollo y fortalecimiento de las redes integradas de servicios de salud, fundamentada en el Modelo de Atención | I13: RE1.5 - Reducida la morbilidad y mortalidad prematura por enfermedades no transmisibles en personas de 30 a 69 años, en un 20% al año 2028, mediante la implementación de intervenciones integrales de prevención, diagnóstico temprano y tratamiento oportuno en los establecimientos de la Red Pública. | J13: 1.5.2 Las víctimas de violencia de género e intrafamiliar reciben atención integral, oportuna y segura en los servicios de salud. | P13: Atención Violencia Género
B14: =IF('Formulario PPGR1'!$H14="","",CONCATENATE('Formulario PPGR1'!$C14,".",'Formulario PPGR1'!$D14,".",'Formulario PPGR1'!$E14,".",#REF!)) -> #REF! | C14: =IF('Formulario PPGR1'!$H14="","",#REF!) -> #REF! | D14: =IF('Formulario PPGR1'!$H14="","",#REF!) -> #REF! | E14: =IF('Formulario PPGR1'!$H14="","",#REF!) -> #REF! | F14: =_xlfn.XLOOKUP($H14,tbl_ejes_estrategicos[Ejes Estratégicos],tbl_ejes_estrategicos[Cod_Eje],"",0) -> EE.1 | G14: =_xlfn.XLOOKUP(Tabla3[[#This Row],[Resultado Estratégico Institucional]],Tabla13[RE Concatenado],Tabla13[RE],"",0) -> RE1.5 | H14: EE.1 - Desarrollo y fortalecimiento de las redes integradas de servicios de salud, fundamentada en el Modelo de Atención | I14: RE1.5 - Reducida la morbilidad y mortalidad prematura por enfermedades no transmisibles en personas de 30 a 69 años, en un 20% al año 2028, mediante la implementación de intervenciones integrales de prevención, diagnóstico temprano y tratamiento oportuno en los establecimientos de la Red Pública. | J14: 1.5.3 Pacientes reciben medicamentos esenciales para el tratamiento adecuado y oportuno de sus condiciones de salud | P14: Medicamentos e Insumos | Q14: Primer Nivel Centros Hospitalarios Materno Infantil y Adolescentes Laboratorio e Imágenes Gestión Clínica
B15: =IF('Formulario PPGR1'!$H15="","",CONCATENATE('Formulario PPGR1'!$C15,".",'Formulario PPGR1'!$D15,".",'Formulario PPGR1'!$E15,".",#REF!)) -> #REF! | C15: =IF('Formulario PPGR1'!$H15="","",#REF!) -> #REF! | D15: =IF('Formulario PPGR1'!$H15="","",#REF!) -> #REF! | E15: =IF('Formulario PPGR1'!$H15="","",#REF!) -> #REF! | F15: =_xlfn.XLOOKUP($H15,tbl_ejes_estrategicos[Ejes Estratégicos],tbl_ejes_estrategicos[Cod_Eje],"",0) -> EE.1 | G15: =_xlfn.XLOOKUP(Tabla3[[#This Row],[Resultado Estratégico Institucional]],Tabla13[RE Concatenado],Tabla13[RE],"",0) -> RE1.5 | H15: EE.1 - Desarrollo y fortalecimiento de las redes integradas de servicios de salud, fundamentada en el Modelo de Atención | I15: RE1.5 - Reducida la morbilidad y mortalidad prematura por enfermedades no transmisibles en personas de 30 a 69 años, en un 20% al año 2028, mediante la implementación de intervenciones integrales de prevención, diagnóstico temprano y tratamiento oportuno en los establecimientos de la Red Pública. | J15: 1.5.4 La población usuaria recibe servicios de salud mental integrales y oportunos, que promueven el bienestar psicológico, la prevención de trastornos y la atención a personas en crisis. | P15: Salud Mental | Q15: Primer Nivel Centros Hospitalarios
B16: =IF('Formulario PPGR1'!$H16="","",CONCATENATE('Formulario PPGR1'!$C16,".",'Formulario PPGR1'!$D16,".",'Formulario PPGR1'!$E16,".",#REF!)) -> #REF! | C16: =IF('Formulario PPGR1'!$H16="","",#REF!) -> #REF! | D16: =IF('Formulario PPGR1'!$H16="","",#REF!) -> #REF! | E16: =IF('Formulario PPGR1'!$H16="","",#REF!) -> #REF! | F16: =_xlfn.XLOOKUP($H16,tbl_ejes_estrategicos[Ejes Estratégicos],tbl_ejes_estrategicos[Cod_Eje],"",0) -> EE.1 | G16: =_xlfn.XLOOKUP(Tabla3[[#This Row],[Resultado Estratégico Institucional]],Tabla13[RE Concatenado],Tabla13[RE],"",0) -> RE1.6 | H16: EE.1 - Desarrollo y fortalecimiento de las redes integradas de servicios de salud, fundamentada en el Modelo de Atención | I16: RE1.6 - Incrementado el acceso oportuno a servicios de salud de calidad, aumentando el acceso a servicios preventivos de 2.23% de la población prioritaria en 2023 al 5.24% en 2028 en todas las regiones del país. | J16: 1.6.1 Los estudiantes de los centros educativos en las jurisdicciones de los SRS Metropolitano (Santo Domingo Este y Oeste) y SRS Norcentral (Santiago) reciben seguimiento continuo a la implementación de la iniciativa de salud escolar, asegurando la promoción de la salud, prevención de enfermedades y bienestar integral. | P16: Primer Nivel
B17: =IF('Formulario PPGR1'!$H17="","",CONCATENATE('Formulario PPGR1'!$C17,".",'Formulario PPGR1'!$D17,".",'Formulario PPGR1'!$E17,".",#REF!)) -> #REF! | C17: =IF('Formulario PPGR1'!$H17="","",#REF!) -> #REF! | D17: =IF('Formulario PPGR1'!$H17="","",#REF!) -> #REF! | E17: =IF('Formulario PPGR1'!$H17="","",#REF!) -> #REF! | F17: =_xlfn.XLOOKUP($H17,tbl_ejes_estrategicos[Ejes Estratégicos],tbl_ejes_estrategicos[Cod_Eje],"",0) -> EE.1 | G17: =_xlfn.XLOOKUP(Tabla3[[#This Row],[Resultado Estratégico Institucional]],Tabla13[RE Concatenado],Tabla13[RE],"",0) -> RE1.6 | H17: EE.1 - Desarrollo y fortalecimiento de las redes integradas de servicios de salud, fundamentada en el Modelo de Atención | I17: RE1.6 - Incrementado el acceso oportuno a servicios de salud de calidad, aumentando el acceso a servicios preventivos de 2.23% de la población prioritaria en 2023 al 5.24% en 2028 en todas las regiones del país. | J17: 1.6.2 Mujeres en edad fértil de población prioritaria recibe acceso oportuno a servicios preventivos de salud a través de campañas y exámenes de detección de cáncer cervicouterino | P17: Primer Nivel
B18: =IF('Formulario PPGR1'!$H18="","",CONCATENATE('Formulario PPGR1'!$C18,".",'Formulario PPGR1'!$D18,".",'Formulario PPGR1'!$E18,".",#REF!)) -> #REF! | C18: =IF('Formulario PPGR1'!$H18="","",#REF!) -> #REF! | D18: =IF('Formulario PPGR1'!$H18="","",#REF!) -> #REF! | E18: =IF('Formulario PPGR1'!$H18="","",#REF!) -> #REF! | F18: =_xlfn.XLOOKUP($H18,tbl_ejes_estrategicos[Ejes Estratégicos],tbl_ejes_estrategicos[Cod_Eje],"",0) -> EE.1 | G18: =_xlfn.XLOOKUP(Tabla3[[#This Row],[Resultado Estratégico Institucional]],Tabla13[RE Concatenado],Tabla13[RE],"",0) -> RE1.6 | H18: EE.1 - Desarrollo y fortalecimiento de las redes integradas de servicios de salud, fundamentada en el Modelo de Atención | I18: RE1.6 - Incrementado el acceso oportuno a servicios de salud de calidad, aumentando el acceso a servicios preventivos de 2.23% de la población prioritaria en 2023 al 5.24% en 2028 en todas las regiones del país. | J18: 1.6.3 Hombres >40 años de población prioritaria recibe acceso oportuno a servicios preventivos de salud a través de campañas y exámenes de detección de cáncer de próstata | P18: Primer Nivel
B19: =IF('Formulario PPGR1'!$H19="","",CONCATENATE('Formulario PPGR1'!$C19,".",'Formulario PPGR1'!$D19,".",'Formulario PPGR1'!$E19,".",#REF!)) -> #REF! | C19: =IF('Formulario PPGR1'!$H19="","",#REF!) -> #REF! | D19: =IF('Formulario PPGR1'!$H19="","",#REF!) -> #REF! | E19: =IF('Formulario PPGR1'!$H19="","",#REF!) -> #REF! | F19: =_xlfn.XLOOKUP($H19,tbl_ejes_estrategicos[Ejes Estratégicos],tbl_ejes_estrategicos[Cod_Eje],"",0) -> EE.1 | G19: =_xlfn.XLOOKUP(Tabla3[[#This Row],[Resultado Estratégico Institucional]],Tabla13[RE Concatenado],Tabla13[RE],"",0) -> RE1.6 | H19: EE.1 - Desarrollo y fortalecimiento de las redes integradas de servicios de salud, fundamentada en el Modelo de Atención | I19: RE1.6 - Incrementado el acceso oportuno a servicios de salud de calidad, aumentando el acceso a servicios preventivos de 2.23% de la población prioritaria en 2023 al 5.24% en 2028 en todas las regiones del país. | J19: 1.6.4 Los pacientes del sistema público de salud reciben atención segura y de calidad mediante el monitoreo y evaluación de la adherencia de los establecimientos de salud a protocolos, guías de atención y demás normativas establecidas. | P19: Primer Nivel
B20: =IF('Formulario PPGR1'!$H20="","",CONCATENATE('Formulario PPGR1'!$C20,".",'Formulario PPGR1'!$D20,".",'Formulario PPGR1'!$E20,".",#REF!)) -> #REF! | C20: =IF('Formulario PPGR1'!$H20="","",#REF!) -> #REF! | D20: =IF('Formulario PPGR1'!$H20="","",#REF!) -> #REF! | E20: =IF('Formulario PPGR1'!$H20="","",#REF!) -> #REF! | F20: =_xlfn.XLOOKUP($H20,tbl_ejes_estrategicos[Ejes Estratégicos],tbl_ejes_estrategicos[Cod_Eje],"",0) -> EE.1 | G20: =_xlfn.XLOOKUP(Tabla3[[#This Row],[Resultado Estratégico Institucional]],Tabla13[RE Concatenado],Tabla13[RE],"",0) -> RE1.6 | H20: EE.1 - Desarrollo y fortalecimiento de las redes integradas de servicios de salud, fundamentada en el Modelo de Atención | I20: RE1.6 - Incrementado el acceso oportuno a servicios de salud de calidad, aumentando el acceso a servicios preventivos de 2.23% de la población prioritaria en 2023 al 5.24% en 2028 en todas las regiones del país. | J20: 1.6.5 La población usuaria recibe servicios odontológicos fortalecidos y de calidad mediante la ejecución de planes de mejora de la atención dental. | P20: Odontología | Q20: Primer Nivel Centros Hospitalarios
B21: =IF('Formulario PPGR1'!$H21="","",CONCATENATE('Formulario PPGR1'!$C21,".",'Formulario PPGR1'!$D21,".",'Formulario PPGR1'!$E21,".",#REF!)) -> #REF! | C21: =IF('Formulario PPGR1'!$H21="","",#REF!) -> #REF! | D21: =IF('Formulario PPGR1'!$H21="","",#REF!) -> #REF! | E21: =IF('Formulario PPGR1'!$H21="","",#REF!) -> #REF! | F21: =_xlfn.XLOOKUP($H21,tbl_ejes_estrategicos[Ejes Estratégicos],tbl_ejes_estrategicos[Cod_Eje],"",0) -> EE.1 | G21: =_xlfn.XLOOKUP(Tabla3[[#This Row],[Resultado Estratégico Institucional]],Tabla13[RE Concatenado],Tabla13[RE],"",0) -> RE1.6 | H21: EE.1 - Desarrollo y fortalecimiento de las redes integradas de servicios de salud, fundamentada en el Modelo de Atención | I21: RE1.6 - Incrementado el acceso oportuno a servicios de salud de calidad, aumentando el acceso a servicios preventivos de 2.23% de la población prioritaria en 2023 al 5.24% en 2028 en todas las regiones del país. | J21: 1.6.6 La población en riesgo y los pacientes con tuberculosis reciben diagnóstico, tratamiento y seguimiento oportunos, garantizando prevención, control y reducción de la transmisión de la enfermedad. | P21: Gestión Clínica | Q21: Primer Nivel Centros Hospitalarios
B22: =IF('Formulario PPGR1'!$H22="","",CONCATENATE('Formulario PPGR1'!$C22,".",'Formulario PPGR1'!$D22,".",'Formulario PPGR1'!$E22,".",#REF!)) -> #REF! | C22: =IF('Formulario PPGR1'!$H22="","",#REF!) -> #REF! | D22: =IF('Formulario PPGR1'!$H22="","",#REF!) -> #REF! | E22: =IF('Formulario PPGR1'!$H22="","",#REF!) -> #REF! | F22: =_xlfn.XLOOKUP($H22,tbl_ejes_estrategicos[Ejes Estratégicos],tbl_ejes_estrategicos[Cod_Eje],"",0) -> EE.1 | G22: =_xlfn.XLOOKUP(Tabla3[[#This Row],[Resultado Estratégico Institucional]],Tabla13[RE Concatenado],Tabla13[RE],"",0) -> RE1.6 | H22: EE.1 - Desarrollo y fortalecimiento de las redes integradas de servicios de salud, fundamentada en el Modelo de Atención | I22: RE1.6 - Incrementado el acceso oportuno a servicios de salud de calidad, aumentando el acceso a servicios preventivos de 2.23% de la población prioritaria en 2023 al 5.24% en 2028 en todas las regiones del país. | J22: 1.6.7 La población en riesgo recibe prevención, vigilancia y control de enfermedades zoonóticas, garantizando la detección temprana y la reducción de su transmisión. | P22: Gestión Clínica | Q22: Primer Nivel Centros Hospitalarios
B23: =IF('Formulario PPGR1'!$H23="","",CONCATENATE('Formulario PPGR1'!$C23,".",'Formulario PPGR1'!$D23,".",'Formulario PPGR1'!$E23,".",#REF!)) -> #REF! | C23: =IF('Formulario PPGR1'!$H23="","",#REF!) -> #REF! | D23: =IF('Formulario PPGR1'!$H23="","",#REF!) -> #REF! | E23: =IF('Formulario PPGR1'!$H23="","",#REF!) -> #REF! | F23: =_xlfn.XLOOKUP($H23,tbl_ejes_estrategicos[Ejes Estratégicos],tbl_ejes_estrategicos[Cod_Eje],"",0) -> EE.1 | G23: =_xlfn.XLOOKUP(Tabla3[[#This Row],[Resultado Estratégico Institucional]],Tabla13[RE Concatenado],Tabla13[RE],"",0) -> RE1.6 | H23: EE.1 - Desarrollo y fortalecimiento de las redes integradas de servicios de salud, fundamentada en el Modelo de Atención | I23: RE1.6 - Incrementado el acceso oportuno a servicios de salud de calidad, aumentando el acceso a servicios preventivos de 2.23% de la población prioritaria en 2023 al 5.24% en 2028 en todas las regiones del país. | J23: 1.6.8 La población en riesgo y personas con VIH reciben servicios integrales de prevención, diagnóstico, tratamiento y seguimiento, garantizando continuidad de la atención y reducción de la transmisión. | P23: Gestión Clínica | Q23: Primer Nivel Centros Hospitalarios
B24: =IF('Formulario PPGR1'!$H24="","",CONCATENATE('Formulario PPGR1'!$C24,".",'Formulario PPGR1'!$D24,".",'Formulario PPGR1'!$E24,".",#REF!)) -> #REF! | C24: =IF('Formulario PPGR1'!$H24="","",#REF!) -> #REF! | D24: =IF('Formulario PPGR1'!$H24="","",#REF!) -> #REF! | E24: =IF('Formulario PPGR1'!$H24="","",#REF!) -> #REF! | F24: =_xlfn.XLOOKUP($H24,tbl_ejes_estrategicos[Ejes Estratégicos],tbl_ejes_estrategicos[Cod_Eje],"",0) -> EE.1 | G24: =_xlfn.XLOOKUP(Tabla3[[#This Row],[Resultado Estratégico Institucional]],Tabla13[RE Concatenado],Tabla13[RE],"",0) -> RE1.7 | H24: EE.1 - Desarrollo y fortalecimiento de las redes integradas de servicios de salud, fundamentada en el Modelo de Atención | I24: RE1.7 - Aumentada la disponibilidad de medicamentos esenciales en los establecimientos de la Red Pública de Servicios de Salud, incrementando el cumplimiento promedio de abastecimiento del 88% en 2023 al 93% en 2028 en todas las regiones del país. | J24: 1.7.1 Pacientes reciben medicamentos esenciales para el tratamiento adecuado y oportuno de sus condiciones de salud. | P24: Medicamentos e Insumos | Q24: Primer Nivel Centros Hospitalarios Gestión Clínica Materno Infantil y Adolescentes
B25: =IF('Formulario PPGR1'!$H25="","",CONCATENATE('Formulario PPGR1'!$C25,".",'Formulario PPGR1'!$D25,".",'Formulario PPGR1'!$E25,".",#REF!)) -> #REF! | C25: =IF('Formulario PPGR1'!$H25="","",#REF!) -> #REF! | D25: =IF('Formulario PPGR1'!$H25="","",#REF!) -> #REF! | E25: =IF('Formulario PPGR1'!$H25="","",#REF!) -> #REF! | F25: =_xlfn.XLOOKUP($H25,tbl_ejes_estrategicos[Ejes Estratégicos],tbl_ejes_estrategicos[Cod_Eje],"",0) -> EE.1 | G25: =_xlfn.XLOOKUP(Tabla3[[#This Row],[Resultado Estratégico Institucional]],Tabla13[RE Concatenado],Tabla13[RE],"",0) -> RE1.8 | H25: EE.1 - Desarrollo y fortalecimiento de las redes integradas de servicios de salud, fundamentada en el Modelo de Atención | I25: RE1.8 - Superadas las deficiencias en la organización e implementación de las Redes Integradas de Servicios de Salud (RISS) beneficiando a toda la población que utiliza los servicios de salud de la Red Pública, aumentando del 38% en 2023 al 50% en 2028 en todo el territorio nacional. | J25: 1.8.1 La población asignada al Primer Nivel de Atención recibe un mayor volumen de servicios de salud, asegurando accesibilidad, cobertura y continuidad en la atención. | P25: Primer Nivel
B26: =IF('Formulario PPGR1'!$H26="","",CONCATENATE('Formulario PPGR1'!$C26,".",'Formulario PPGR1'!$D26,".",'Formulario PPGR1'!$E26,".",#REF!)) -> #REF! | C26: =IF('Formulario PPGR1'!$H26="","",#REF!) -> #REF! | D26: =IF('Formulario PPGR1'!$H26="","",#REF!) -> #REF! | E26: =IF('Formulario PPGR1'!$H26="","",#REF!) -> #REF! | F26: =_xlfn.XLOOKUP($H26,tbl_ejes_estrategicos[Ejes Estratégicos],tbl_ejes_estrategicos[Cod_Eje],"",0) -> EE.1 | G26: =_xlfn.XLOOKUP(Tabla3[[#This Row],[Resultado Estratégico Institucional]],Tabla13[RE Concatenado],Tabla13[RE],"",0) -> RE1.8 | H26: EE.1 - Desarrollo y fortalecimiento de las redes integradas de servicios de salud, fundamentada en el Modelo de Atención | I26: RE1.8 - Superadas las deficiencias en la organización e implementación de las Redes Integradas de Servicios de Salud (RISS) beneficiando a toda la población que utiliza los servicios de salud de la Red Pública, aumentando del 38% en 2023 al 50% en 2028 en todo el territorio nacional. | J26: 1.8.2 La población recibe acceso equitativo a servicios de salud, incluidos los de emergencia, de calidad, seguros, integrales, continuos e inclusivos, mediante redes integradas que incorporan mejora continua de procesos y avances tecnológicos. | P26: Centros Hospitalarios
B27: =IF('Formulario PPGR1'!$H27="","",CONCATENATE('Formulario PPGR1'!$C27,".",'Formulario PPGR1'!$D27,".",'Formulario PPGR1'!$E27,".",#REF!)) -> #REF! | C27: =IF('Formulario PPGR1'!$H27="","",#REF!) -> #REF! | D27: =IF('Formulario PPGR1'!$H27="","",#REF!) -> #REF! | E27: =IF('Formulario PPGR1'!$H27="","",#REF!) -> #REF! | F27: =_xlfn.XLOOKUP($H27,tbl_ejes_estrategicos[Ejes Estratégicos],tbl_ejes_estrategicos[Cod_Eje],"",0) -> EE.1 | G27: =_xlfn.XLOOKUP(Tabla3[[#This Row],[Resultado Estratégico Institucional]],Tabla13[RE Concatenado],Tabla13[RE],"",0) -> RE1.8 | H27: EE.1 - Desarrollo y fortalecimiento de las redes integradas de servicios de salud, fundamentada en el Modelo de Atención | I27: RE1.8 - Superadas las deficiencias en la organización e implementación de las Redes Integradas de Servicios de Salud (RISS) beneficiando a toda la población que utiliza los servicios de salud de la Red Pública, aumentando del 38% en 2023 al 50% en 2028 en todo el territorio nacional. | J27: 1.8.3 La población usuaria recibe servicios hospitalarios fortalecidos, integrales y de calidad mediante la mejora continua de procesos y servicios, la optimización de la gestión y el fortalecimiento de la infraestructura, el equipamiento y las capacidades del personal. | P27: Centros Hospitalarios
B28: =IF('Formulario PPGR1'!$H28="","",CONCATENATE('Formulario PPGR1'!$C28,".",'Formulario PPGR1'!$D28,".",'Formulario PPGR1'!$E28,".",#REF!)) -> #REF! | C28: =IF('Formulario PPGR1'!$H28="","",#REF!) -> #REF! | D28: =IF('Formulario PPGR1'!$H28="","",#REF!) -> #REF! | E28: =IF('Formulario PPGR1'!$H28="","",#REF!) -> #REF! | F28: =_xlfn.XLOOKUP($H28,tbl_ejes_estrategicos[Ejes Estratégicos],tbl_ejes_estrategicos[Cod_Eje],"",0) -> EE.1 | G28: =_xlfn.XLOOKUP(Tabla3[[#This Row],[Resultado Estratégico Institucional]],Tabla13[RE Concatenado],Tabla13[RE],"",0) -> RE1.9 | H28: EE.1 - Desarrollo y fortalecimiento de las redes integradas de servicios de salud, fundamentada en el Modelo de Atención | I28: RE1.9 - Fortalecida la implementación del Modelo de Atención en Salud beneficiando a la población usuaria del primer nivel de atención, incrementando la adscripción del 7% en 2023 al 80% en 2028, en todas las regiones del país. | J28: 1.9.1 Población prioritaria adscrita al Primer Nivel de Atención para recibir atención integral | P28: Primer Nivel
B29: =IF('Formulario PPGR1'!$H29="","",CONCATENATE('Formulario PPGR1'!$C29,".",'Formulario PPGR1'!$D29,".",'Formulario PPGR1'!$E29,".",#REF!)) -> #REF! | C29: =IF('Formulario PPGR1'!$H29="","",#REF!) -> #REF! | D29: =IF('Formulario PPGR1'!$H29="","",#REF!) -> #REF! | E29: =IF('Formulario PPGR1'!$H29="","",#REF!) -> #REF! | F29: =_xlfn.XLOOKUP($H29,tbl_ejes_estrategicos[Ejes Estratégicos],tbl_ejes_estrategicos[Cod_Eje],"",0) -> EE.1 | G29: =_xlfn.XLOOKUP(Tabla3[[#This Row],[Resultado Estratégico Institucional]],Tabla13[RE Concatenado],Tabla13[RE],"",0) -> RE1.10 | H29: EE.1 - Desarrollo y fortalecimiento de las redes integradas de servicios de salud, fundamentada en el Modelo de Atención | I29: RE1.10 - Mejorada la distribución y presencia del Primer Nivel de Atención respecto a la sectorización, incrementando la presencia del Primer Nivel del 70% en 2023 al 71% en 2028 en todas las regiones del territorio nacional. | J29: 1.10.1 Población de zonas rurales y vulnerables recibe acceso mejorado a atención primaria de salud a través de una distribución más eficiente de recursos. | P29: Primer Nivel | Q29: Administrativo Financiero
B30: =IF('Formulario PPGR1'!$H30="","",CONCATENATE('Formulario PPGR1'!$C30,".",'Formulario PPGR1'!$D30,".",'Formulario PPGR1'!$E30,".",#REF!)) -> #REF! | C30: =IF('Formulario PPGR1'!$H30="","",#REF!) -> #REF! | D30: =IF('Formulario PPGR1'!$H30="","",#REF!) -> #REF! | E30: =IF('Formulario PPGR1'!$H30="","",#REF!) -> #REF! | F30: =_xlfn.XLOOKUP($H30,tbl_ejes_estrategicos[Ejes Estratégicos],tbl_ejes_estrategicos[Cod_Eje],"",0) -> EE.1 | G30: =_xlfn.XLOOKUP(Tabla3[[#This Row],[Resultado Estratégico Institucional]],Tabla13[RE Concatenado],Tabla13[RE],"",0) -> RE1.11 | H30: EE.1 - Desarrollo y fortalecimiento de las redes integradas de servicios de salud, fundamentada en el Modelo de Atención | I30: RE1.11 - Fortalecida la continuidad en la atención de las puérperas y recién nacidos, aumentando la captación oportuna del 30% en 2023 al 50% en 2028 en el Primer Nivel de Atención. | J30: 1.11.1Puérperas reciben atención continua y seguimiento postparto en el primer nivel de atención. | P30: Primer Nivel | Q30: Materno-Neonatal
B31: =IF('Formulario PPGR1'!$H31="","",CONCATENATE('Formulario PPGR1'!$C31,".",'Formulario PPGR1'!$D31,".",'Formulario PPGR1'!$E31,".",#REF!)) -> #REF! | C31: =IF('Formulario PPGR1'!$H31="","",#REF!) -> #REF! | D31: =IF('Formulario PPGR1'!$H31="","",#REF!) -> #REF! | E31: =IF('Formulario PPGR1'!$H31="","",#REF!) -> #REF! | F31: =_xlfn.XLOOKUP($H31,tbl_ejes_estrategicos[Ejes Estratégicos],tbl_ejes_estrategicos[Cod_Eje],"",0) -> EE.1 | G31: =_xlfn.XLOOKUP(Tabla3[[#This Row],[Resultado Estratégico Institucional]],Tabla13[RE Concatenado],Tabla13[RE],"",0) -> RE1.11 | H31: EE.1 - Desarrollo y fortalecimiento de las redes integradas de servicios de salud, fundamentada en el Modelo de Atención | I31: RE1.11 - Fortalecida la continuidad en la atención de las puérperas y recién nacidos, aumentando la captación oportuna del 30% en 2023 al 50% en 2028 en el Primer Nivel de Atención. | J31: 1.11.2 Recién nacidos reciben atención continua y seguimiento postparto en el primer nivel de atención. | P31: Primer Nivel | Q31: Materno-Neonatal
B32: =IF('Formulario PPGR1'!$H32="","",CONCATENATE('Formulario PPGR1'!$C32,".",'Formulario PPGR1'!$D32,".",'Formulario PPGR1'!$E32,".",#REF!)) -> #REF! | C32: =IF('Formulario PPGR1'!$H32="","",#REF!) -> #REF! | D32: =IF('Formulario PPGR1'!$H32="","",#REF!) -> #REF! | E32: =IF('Formulario PPGR1'!$H32="","",#REF!) -> #REF! | F32: =_xlfn.XLOOKUP($H32,tbl_ejes_estrategicos[Ejes Estratégicos],tbl_ejes_estrategicos[Cod_Eje],"",0) -> EE.1 | G32: =_xlfn.XLOOKUP(Tabla3[[#This Row],[Resultado Estratégico Institucional]],Tabla13[RE Concatenado],Tabla13[RE],"",0) -> RE1.12 | H32: EE.1 - Desarrollo y fortalecimiento de las redes integradas de servicios de salud, fundamentada en el Modelo de Atención | I32: RE1.12 - Superadas las deficiencias en la organización e implementación de las Redes Integradas de Servicios de Salud (RISS) beneficiando a toda la población que utiliza los servicios de salud de la Red Pública, aumentando del 38% en 2023 al 50% en 2028 en todo el territorio nacional. | J32: 1.12.1 La población usuaria de los servicios de salud se beneficia de la disponibilidad oportuna de recursos financieros, gracias a que los establecimientos de salud (EES) ejecutan su presupuesto de manera eficiente, transparente y orientada a garantizar servicios de calidad. | P32: Administartivo-Financiero
B33: =IF('Formulario PPGR1'!$H33="","",CONCATENATE('Formulario PPGR1'!$C33,".",'Formulario PPGR1'!$D33,".",'Formulario PPGR1'!$E33,".",#REF!)) -> #REF! | C33: =IF('Formulario PPGR1'!$H33="","",#REF!) -> #REF! | D33: =IF('Formulario PPGR1'!$H33="","",#REF!) -> #REF! | E33: =IF('Formulario PPGR1'!$H33="","",#REF!) -> #REF! | F33: =_xlfn.XLOOKUP($H33,tbl_ejes_estrategicos[Ejes Estratégicos],tbl_ejes_estrategicos[Cod_Eje],"",0) -> EE.1 | G33: =_xlfn.XLOOKUP(Tabla3[[#This Row],[Resultado Estratégico Institucional]],Tabla13[RE Concatenado],Tabla13[RE],"",0) -> RE1.12 | H33: EE.1 - Desarrollo y fortalecimiento de las redes integradas de servicios de salud, fundamentada en el Modelo de Atención | I33: RE1.12 - Superadas las deficiencias en la organización e implementación de las Redes Integradas de Servicios de Salud (RISS) beneficiando a toda la población que utiliza los servicios de salud de la Red Pública, aumentando del 38% en 2023 al 50% en 2028 en todo el territorio nacional. | J33: 1.12.2 La población usuaria recibe atención continua y coordinada mediante la articulación efectiva de los procesos de referencia y contrarreferencia en la red de salud. | P33: Atención a los Usuarios | Q33: Gestión Clínica
B34: =IF('Formulario PPGR1'!$H34="","",CONCATENATE('Formulario PPGR1'!$C34,".",'Formulario PPGR1'!$D34,".",'Formulario PPGR1'!$E34,".",#REF!)) -> #REF! | C34: =IF('Formulario PPGR1'!$H34="","",#REF!) -> #REF! | D34: =IF('Formulario PPGR1'!$H34="","",#REF!) -> #REF! | E34: =IF('Formulario PPGR1'!$H34="","",#REF!) -> #REF! | F34: =_xlfn.XLOOKUP($H34,tbl_ejes_estrategicos[Ejes Estratégicos],tbl_ejes_estrategicos[Cod_Eje],"",0) -> EE.1 | G34: =_xlfn.XLOOKUP(Tabla3[[#This Row],[Resultado Estratégico Institucional]],Tabla13[RE Concatenado],Tabla13[RE],"",0) -> RE1.12 | H34: EE.1 - Desarrollo y fortalecimiento de las redes integradas de servicios de salud, fundamentada en el Modelo de Atención | I34: RE1.12 - Superadas las deficiencias en la organización e implementación de las Redes Integradas de Servicios de Salud (RISS) beneficiando a toda la población que utiliza los servicios de salud de la Red Pública, aumentando del 38% en 2023 al 50% en 2028 en todo el territorio nacional. | J34: 1.12.3 La población usuaria recibe acceso a una cartera de servicios de salud integral, oportuna y de calidad, que responde a sus necesidades sanitarias. | P34: Gestión Clínica | Q34: Atención a Usuarios
B35: =IF('Formulario PPGR1'!$H35="","",CONCATENATE('Formulario PPGR1'!$C35,".",'Formulario PPGR1'!$D35,".",'Formulario PPGR1'!$E35,".",#REF!)) -> #REF! | C35: =IF('Formulario PPGR1'!$H35="","",#REF!) -> #REF! | D35: =IF('Formulario PPGR1'!$H35="","",#REF!) -> #REF! | E35: =IF('Formulario PPGR1'!$H35="","",#REF!) -> #REF! | F35: =_xlfn.XLOOKUP($H35,tbl_ejes_estrategicos[Ejes Estratégicos],tbl_ejes_estrategicos[Cod_Eje],"",0) -> EE.2 | G35: =_xlfn.XLOOKUP(Tabla3[[#This Row],[Resultado Estratégico Institucional]],Tabla13[RE Concatenado],Tabla13[RE],"",0) -> RE2.1 | H35: EE.2 - Fortalecimiento del desarrollo y la gestión de los recursos humanos | I35: RE2.1 - Reducida la escasez de recursos humanos de salud, aumentando un 12% en el 2028 la dotación de personal en establecimientos públicos del país. | J35: 2.1.1 El personal del SNS recibe desarrollo de competencias (técnicas y blandas), evaluación del desempeño y gestión de seguridad y salud en el trabajo, con procesos efectivos de relaciones laborales, para mejorar el desempeño, el bienestar y el cumplimiento normativo en toda la red. | P35: Recursos Humanos
B36: =IF('Formulario PPGR1'!$H36="","",CONCATENATE('Formulario PPGR1'!$C36,".",'Formulario PPGR1'!$D36,".",'Formulario PPGR1'!$E36,".",#REF!)) -> #REF! | C36: =IF('Formulario PPGR1'!$H36="","",#REF!) -> #REF! | D36: =IF('Formulario PPGR1'!$H36="","",#REF!) -> #REF! | E36: =IF('Formulario PPGR1'!$H36="","",#REF!) -> #REF! | F36: =_xlfn.XLOOKUP($H36,tbl_ejes_estrategicos[Ejes Estratégicos],tbl_ejes_estrategicos[Cod_Eje],"",0) -> EE.2 | G36: =_xlfn.XLOOKUP(Tabla3[[#This Row],[Resultado Estratégico Institucional]],Tabla13[RE Concatenado],Tabla13[RE],"",0) -> RE2.2 | H36: EE.2 - Fortalecimiento del desarrollo y la gestión de los recursos humanos | I36: RE2.2 - Incrementada la eficacia de los procesos de contratación y retención de recursos humanos de salud en establecimientos públicos, reduciendo vacantes y mejorando la dotación de personal. | J36: 2.2.2. Las autoridades y gestores del SNS disponen de un análisis actualizado de la demanda de recursos humanos por nivel de atención, que permite dimensionar dotaciones, planificar reclutamiento y formación, y mejorar la distribución del personal según necesidades poblacionales. | P36: Recursos Humanos | Q36: Primer Nivel Centros Hospitalarios
B37: =IF('Formulario PPGR1'!$H37="","",CONCATENATE('Formulario PPGR1'!$C37,".",'Formulario PPGR1'!$D37,".",'Formulario PPGR1'!$E37,".",#REF!)) -> #REF! | C37: =IF('Formulario PPGR1'!$H37="","",#REF!) -> #REF! | D37: =IF('Formulario PPGR1'!$H37="","",#REF!) -> #REF! | E37: =IF('Formulario PPGR1'!$H37="","",#REF!) -> #REF! | F37: =_xlfn.XLOOKUP($H37,tbl_ejes_estrategicos[Ejes Estratégicos],tbl_ejes_estrategicos[Cod_Eje],"",0) -> EE.3 | G37: =_xlfn.XLOOKUP(Tabla3[[#This Row],[Resultado Estratégico Institucional]],Tabla13[RE Concatenado],Tabla13[RE],"",0) -> RE3.1 | H37: EE.3 - Fortalecimiento institucional | I37: RE3.1 - Fortalecida la capacidad institucional para aumentar el acceso a servicios públicos de calidad mediante la optimización de procesos, empoderamiento del talento humano, articulación efectiva, incorporación de tecnologías de la información y comunicación, modernización de la infraestructura física y equipamiento adecuado. | J37: 3.1.1 Los Centros de Atención y Servicios (CEAS) y las Oficinas Regionales de Salud (ORS) reciben el Formulario de Levantamiento de Necesidades de Cooperación No Reembolsable como instrumento estandarizado, para identificar y priorizar requerimientos vinculados a cooperación y asistencia técnica. | P37: Planificación
B38: =IF('Formulario PPGR1'!$H38="","",CONCATENATE('Formulario PPGR1'!$C38,".",'Formulario PPGR1'!$D38,".",'Formulario PPGR1'!$E38,".",#REF!)) -> #REF! | C38: =IF('Formulario PPGR1'!$H38="","",#REF!) -> #REF! | D38: =IF('Formulario PPGR1'!$H38="","",#REF!) -> #REF! | E38: =IF('Formulario PPGR1'!$H38="","",#REF!) -> #REF! | F38: =_xlfn.XLOOKUP($H38,tbl_ejes_estrategicos[Ejes Estratégicos],tbl_ejes_estrategicos[Cod_Eje],"",0) -> EE.3 | G38: =_xlfn.XLOOKUP(Tabla3[[#This Row],[Resultado Estratégico Institucional]],Tabla13[RE Concatenado],Tabla13[RE],"",0) -> RE3.1 | H38: EE.3 - Fortalecimiento institucional | I38: RE3.1 - Fortalecida la capacidad institucional para aumentar el acceso a servicios públicos de calidad mediante la optimización de procesos, empoderamiento del talento humano, articulación efectiva, incorporación de tecnologías de la información y comunicación, modernización de la infraestructura física y equipamiento adecuado. | J38: 3.1.2 La ciudadanía y los colaboradores reciben información y orientación mediante estrategias de comunicación y campañas inclusivas, fortaleciendo la confianza, aceptación institucional, coordinación interna y promoviendo la transformación del SNS hacia una red pública integrada y centrada en el paciente. | P38: Comunicaciones
B39: =IF('Formulario PPGR1'!$H39="","",CONCATENATE('Formulario PPGR1'!$C39,".",'Formulario PPGR1'!$D39,".",'Formulario PPGR1'!$E39,".",#REF!)) -> #REF! | C39: =IF('Formulario PPGR1'!$H39="","",#REF!) -> #REF! | D39: =IF('Formulario PPGR1'!$H39="","",#REF!) -> #REF! | E39: =IF('Formulario PPGR1'!$H39="","",#REF!) -> #REF! | F39: =_xlfn.XLOOKUP($H39,tbl_ejes_estrategicos[Ejes Estratégicos],tbl_ejes_estrategicos[Cod_Eje],"",0) -> EE.3 | G39: =_xlfn.XLOOKUP(Tabla3[[#This Row],[Resultado Estratégico Institucional]],Tabla13[RE Concatenado],Tabla13[RE],"",0) -> RE3.1 | H39: EE.3 - Fortalecimiento institucional | I39: RE3.1 - Fortalecida la capacidad institucional para aumentar el acceso a servicios públicos de calidad mediante la optimización de procesos, empoderamiento del talento humano, articulación efectiva, incorporación de tecnologías de la información y comunicación, modernización de la infraestructura física y equipamiento adecuado. | J39: 3.1.3 Personal y población usuaria reciben beneficios del PAI-RSI mediante iniciativas que promueven eficiencia energética, gestión de residuos, uso racional del agua y sensibilización ambiental en Sede Central y SRS. | P39: Comunicaciones
B40: =IF('Formulario PPGR1'!$H40="","",CONCATENATE('Formulario PPGR1'!$C40,".",'Formulario PPGR1'!$D40,".",'Formulario PPGR1'!$E40,".",#REF!)) -> #REF! | C40: =IF('Formulario PPGR1'!$H40="","",#REF!) -> #REF! | D40: =IF('Formulario PPGR1'!$H40="","",#REF!) -> #REF! | E40: =IF('Formulario PPGR1'!$H40="","",#REF!) -> #REF! | F40: =_xlfn.XLOOKUP($H40,tbl_ejes_estrategicos[Ejes Estratégicos],tbl_ejes_estrategicos[Cod_Eje],"",0) -> EE.3 | G40: =_xlfn.XLOOKUP(Tabla3[[#This Row],[Resultado Estratégico Institucional]],Tabla13[RE Concatenado],Tabla13[RE],"",0) -> RE3.1 | H40: EE.3 - Fortalecimiento institucional | I40: RE3.1 - Fortalecida la capacidad institucional para aumentar el acceso a servicios públicos de calidad mediante la optimización de procesos, empoderamiento del talento humano, articulación efectiva, incorporación de tecnologías de la información y comunicación, modernización de la infraestructura física y equipamiento adecuado. | J40: 3.1.4 Los Servicios Regionales de Salud (SRS) reciben procesos estandarizados de gestión y seguimiento de casos litigiosos, asegurando eficiencia, transparencia y resolución oportuna de los procedimientos legales. | P40: Jurídica
B41: =IF('Formulario PPGR1'!$H41="","",CONCATENATE('Formulario PPGR1'!$C41,".",'Formulario PPGR1'!$D41,".",'Formulario PPGR1'!$E41,".",#REF!)) -> #REF! | C41: =IF('Formulario PPGR1'!$H41="","",#REF!) -> #REF! | D41: =IF('Formulario PPGR1'!$H41="","",#REF!) -> #REF! | E41: =IF('Formulario PPGR1'!$H41="","",#REF!) -> #REF! | F41: =_xlfn.XLOOKUP($H41,tbl_ejes_estrategicos[Ejes Estratégicos],tbl_ejes_estrategicos[Cod_Eje],"",0) -> EE.3 | G41: =_xlfn.XLOOKUP(Tabla3[[#This Row],[Resultado Estratégico Institucional]],Tabla13[RE Concatenado],Tabla13[RE],"",0) -> RE3.1 | H41: EE.3 - Fortalecimiento institucional | I41: RE3.1 - Fortalecida la capacidad institucional para aumentar el acceso a servicios públicos de calidad mediante la optimización de procesos, empoderamiento del talento humano, articulación efectiva, incorporación de tecnologías de la información y comunicación, modernización de la infraestructura física y equipamiento adecuado. | J41: 3.1.5 Personal y usuarios del SNS reciben servicios tecnológicos confiables | P41: Tecnología | Q41: Primer Nivel Centros Hospitalarios | V41: Automatización Tecnológica
B42: =IF('Formulario PPGR1'!$H42="","",CONCATENATE('Formulario PPGR1'!$C42,".",'Formulario PPGR1'!$D42,".",'Formulario PPGR1'!$E42,".",#REF!)) -> #REF! | C42: =IF('Formulario PPGR1'!$H42="","",#REF!) -> #REF! | D42: =IF('Formulario PPGR1'!$H42="","",#REF!) -> #REF! | E42: =IF('Formulario PPGR1'!$H42="","",#REF!) -> #REF! | F42: =_xlfn.XLOOKUP($H42,tbl_ejes_estrategicos[Ejes Estratégicos],tbl_ejes_estrategicos[Cod_Eje],"",0) -> EE.3 | G42: =_xlfn.XLOOKUP(Tabla3[[#This Row],[Resultado Estratégico Institucional]],Tabla13[RE Concatenado],Tabla13[RE],"",0) -> RE3.1 | H42: EE.3 - Fortalecimiento institucional | I42: RE3.1 - Fortalecida la capacidad institucional para aumentar el acceso a servicios públicos de calidad mediante la optimización de procesos, empoderamiento del talento humano, articulación efectiva, incorporación de tecnologías de la información y comunicación, modernización de la infraestructura física y equipamiento adecuado. | J42: 3.1.6 La población usuaria recibe servicios seguros y de calidad mediante el fortalecimiento del modelo institucional de gestión y monitoreo de la calidad, con estándares, indicadores, auditorías y acciones de mejora continua en todas las unidades. | P42: Planificación
B43: =IF('Formulario PPGR1'!$H43="","",CONCATENATE('Formulario PPGR1'!$C43,".",'Formulario PPGR1'!$D43,".",'Formulario PPGR1'!$E43,".",#REF!)) -> #REF! | C43: =IF('Formulario PPGR1'!$H43="","",#REF!) -> #REF! | D43: =IF('Formulario PPGR1'!$H43="","",#REF!) -> #REF! | E43: =IF('Formulario PPGR1'!$H43="","",#REF!) -> #REF! | F43: =_xlfn.XLOOKUP($H43,tbl_ejes_estrategicos[Ejes Estratégicos],tbl_ejes_estrategicos[Cod_Eje],"",0) -> EE.3 | G43: =_xlfn.XLOOKUP(Tabla3[[#This Row],[Resultado Estratégico Institucional]],Tabla13[RE Concatenado],Tabla13[RE],"",0) -> RE3.1 | H43: EE.3 - Fortalecimiento institucional | I43: RE3.1 - Fortalecida la capacidad institucional para aumentar el acceso a servicios públicos de calidad mediante la optimización de procesos, empoderamiento del talento humano, articulación efectiva, incorporación de tecnologías de la información y comunicación, modernización de la infraestructura física y equipamiento adecuado. | J43: 3.1.7 Los establecimientos de la red SNS disponen de bienes oportunos, custodiados y en condiciones óptimas mediante el fortalecimiento del Sistema de Administración de Bienes: registro e inventario, control y trazabilidad, mantenimiento, distribución y bajas, con enfoque de ciclo de vida y transparencia. | P43: Administrativo-Financiero
...

Sheet Formulario PPGR2
H2: ='Formulario PPGR1'!I2 -> Servicio Nacional de Salud
H3: ='Formulario PPGR1'!I3 -> Dirección de Planificación y Desarrollo | Z3: =IF('Formulario PPGR1'!$L$3="SNS - Dirección Central","ls_Departamento","Ls_DepartamentosSRS") -> Ls_DepartamentosSRS
H4: =+'Formulario PPGR1'!I4 -> Plan Operativo Anual
H5: Identificación de actividades
H6: Servicio Nacional de Salud
B8: ID_Dependendencia | C8: POA | D8: SRS | E8: AREA | F8: TIPO | G8: Productos | H8: Código | I8: Actividades Programables Presupuestables | J8: Ene | K8: Feb | L8: Mar | M8: Abr | N8: May | O8: Jun | P8: Jul | Q8: Ago | R8: Sep | S8: Oct | T8: Nov | U8: Dic | V8: Total de Acciones | W8: Medio de Verificación 1 | X8: Medio de Verificación 2 | Y8: Medio de Verificación 3 | Z8: Responsable
B9: =IF('Formulario PPGR2'!$G9="","",CONCATENATE('Formulario PPGR2'!$C9,".",'Formulario PPGR2'!$D9,".",'Formulario PPGR2'!$E9,".",'Formulario PPGR2'!$F9)) -> #REF! | D9: =IF('Formulario PPGR2'!$G9="","",'Formulario PPGR1'!#REF!) -> #REF! | E9: =IF('Formulario PPGR2'!$G9="","",'Formulario PPGR1'!#REF!) -> #REF! | F9: =IF('Formulario PPGR2'!$G9="","",'Formulario PPGR1'!#REF!) -> #REF! | G9: 1.1.1 Niños, niñas y Adolescentes reciben atención médica y servicios de salud basado en protocolos nacionales e internacionales. | H9: 1.1.1.01 | I9: Seguimiento para el fortalecimiento de la Estrategia Canguro . | J9: 1 | K9: 1 | L9: 1 | M9: 1 | N9: 2 | O9: 1 | P9: 1 | Q9: 1 | R9: 2 | S9: 1 | T9: 1 | U9: 1 | V9: =SUM('Formulario PPGR2'!$J9:$U9) -> 14 | W9: Reporte | X9: Informe | Y9: Reporte de supervisión PMC (ver cronograma de visitas)/ Informe Análisis de Indicadores (mayo, septiembre) | Z9: Materno Infantil y Adolescentes
B10: =IF('Formulario PPGR2'!$G10="","",CONCATENATE('Formulario PPGR2'!$C10,".",'Formulario PPGR2'!$D10,".",'Formulario PPGR2'!$E10,".",'Formulario PPGR2'!$F10)) -> #REF! | D10: =IF('Formulario PPGR2'!$G10="","",'Formulario PPGR1'!#REF!) -> #REF! | E10: =IF('Formulario PPGR2'!$G10="","",'Formulario PPGR1'!#REF!) -> #REF! | F10: =IF('Formulario PPGR2'!$G10="","",'Formulario PPGR1'!#REF!) -> #REF! | G10: 1.1.1 Niños, niñas y Adolescentes reciben atención médica y servicios de salud basado en protocolos nacionales e internacionales. | H10: 1.1.1.02 | I10: Análisis de la mortalidad postneonatal, infantil y en la primera infancia por SRS | M10: 1 | P10: 1 | S10: 1 | V10: =SUM('Formulario PPGR2'!$J10:$U10) -> 3 | W10: Informe | Z10: Materno Infantil y Adolescentes
B11: =IF('Formulario PPGR2'!$G11="","",CONCATENATE('Formulario PPGR2'!$C11,".",'Formulario PPGR2'!$D11,".",'Formulario PPGR2'!$E11,".",'Formulario PPGR2'!$F11)) -> #REF! | D11: =IF('Formulario PPGR2'!$G11="","",'Formulario PPGR1'!#REF!) -> #REF! | E11: =IF('Formulario PPGR2'!$G11="","",'Formulario PPGR1'!#REF!) -> #REF! | F11: =IF('Formulario PPGR2'!$G11="","",'Formulario PPGR1'!#REF!) -> #REF! | G11: 1.1.1 Niños, niñas y Adolescentes reciben atención médica y servicios de salud basado en protocolos nacionales e internacionales. | H11: 1.1.1.03 | I11: Seguimiento a la Sala Situacional IA | L11: 1 | O11: 1 | R11: 1 | U11: 1 | V11: =SUM('Formulario PPGR2'!$J11:$U11) -> 4 | W11: Minuta | X11: Reporte | Z11: Materno Infantil y Adolescentes
B12: =IF('Formulario PPGR2'!$G12="","",CONCATENATE('Formulario PPGR2'!$C12,".",'Formulario PPGR2'!$D12,".",'Formulario PPGR2'!$E12,".",'Formulario PPGR2'!$F12)) -> #REF! | D12: =IF('Formulario PPGR2'!$G12="","",'Formulario PPGR1'!#REF!) -> #REF! | E12: =IF('Formulario PPGR2'!$G12="","",'Formulario PPGR1'!#REF!) -> #REF! | F12: =IF('Formulario PPGR2'!$G12="","",'Formulario PPGR1'!#REF!) -> #REF! | G12: 1.1.1 Niños, niñas y Adolescentes reciben atención médica y servicios de salud basado en protocolos nacionales e internacionales. | H12: 1.1.1.04 | I12: Elaboración e implementación del plan para el fortalecimiento de los servicios pediatricos. | J12: 1 | M12: 1 | P12: 1 | S12: 1 | V12: =SUM('Formulario PPGR2'!$J12:$U12) -> 4 | W12: Plan | Y12: Plan (elaboración enero) Seguimiento (abril, julio, octubre) | Z12: Materno Infantil y Adolescentes
B13: =IF('Formulario PPGR2'!$G13="","",CONCATENATE('Formulario PPGR2'!$C13,".",'Formulario PPGR2'!$D13,".",'Formulario PPGR2'!$E13,".",'Formulario PPGR2'!$F13)) -> #REF! | D13: =IF('Formulario PPGR2'!$G13="","",'Formulario PPGR1'!#REF!) -> #REF! | E13: =IF('Formulario PPGR2'!$G13="","",'Formulario PPGR1'!#REF!) -> #REF! | F13: =IF('Formulario PPGR2'!$G13="","",'Formulario PPGR1'!#REF!) -> #REF! | G13: 1.1.1 Niños, niñas y Adolescentes reciben atención médica y servicios de salud basado en protocolos nacionales e internacionales. | H13: 1.1.1.05 | I13: Seguimiento a la intervención para el fortalecimiento en la atención niños asistidos por violencia en CEAS y CPN (Socialización guias y protocolos, reporte de casos) | L13: 1 | O13: 1 | R13: 1 | U13: 1 | V13: =SUM('Formulario PPGR2'!$J13:$U13) -> 4 | W13: Listado de participación | X13: Reporte | Y13: Socialización (Listado de participantes/ Agenda) Reporte casos (Formulario para reporte de casos) | Z13: Materno Infantil y Adolescentes
B14: =IF('Formulario PPGR2'!$G14="","",CONCATENATE('Formulario PPGR2'!$C14,".",'Formulario PPGR2'!$D14,".",'Formulario PPGR2'!$E14,".",'Formulario PPGR2'!$F14)) -> #REF! | D14: =IF('Formulario PPGR2'!$G14="","",'Formulario PPGR1'!#REF!) -> #REF! | E14: =IF('Formulario PPGR2'!$G14="","",'Formulario PPGR1'!#REF!) -> #REF! | F14: =IF('Formulario PPGR2'!$G14="","",'Formulario PPGR1'!#REF!) -> #REF! | G14: 1.1.1 Niños, niñas y Adolescentes reciben atención médica y servicios de salud basado en protocolos nacionales e internacionales. | H14: 1.1.1.06 | I14: Seguimiento a la atención en salud en menores de 5 años en CPNA seleccionados | L14: 1 | O14: 1 | R14: 1 | U14: 1 | V14: =SUM('Formulario PPGR2'!$J14:$U14) -> 4 | W14: Informe | X14: Reporte | Z14: Materno Infantil y Adolescentes
B15: =IF('Formulario PPGR2'!$G15="","",CONCATENATE('Formulario PPGR2'!$C15,".",'Formulario PPGR2'!$D15,".",'Formulario PPGR2'!$E15,".",'Formulario PPGR2'!$F15)) -> #REF! | D15: =IF('Formulario PPGR2'!$G15="","",'Formulario PPGR1'!#REF!) -> #REF! | E15: =IF('Formulario PPGR2'!$G15="","",'Formulario PPGR1'!#REF!) -> #REF! | F15: =IF('Formulario PPGR2'!$G15="","",'Formulario PPGR1'!#REF!) -> #REF! | G15: 1.1.1 Niños, niñas y Adolescentes reciben atención médica y servicios de salud basado en protocolos nacionales e internacionales. | H15: 1.1.1.07 | I15: Capitaciones de anticonceptivos al personal de la Unidades de Atención Integral y las Consultas Diferenciadas para adolescentes | L15: 1 | O15: 1 | R15: 1 | U15: 1 | V15: =SUM('Formulario PPGR2'!$J15:$U15) -> 4 | W15: Listado de participación | X15: Agenda | Z15: Materno Infantil y Adolescentes
B16: =IF('Formulario PPGR2'!$G16="","",CONCATENATE('Formulario PPGR2'!$C16,".",'Formulario PPGR2'!$D16,".",'Formulario PPGR2'!$E16,".",'Formulario PPGR2'!$F16)) -> #REF! | D16: =IF('Formulario PPGR2'!$G16="","",'Formulario PPGR1'!#REF!) -> #REF! | E16: =IF('Formulario PPGR2'!$G16="","",'Formulario PPGR1'!#REF!) -> #REF! | F16: =IF('Formulario PPGR2'!$G16="","",'Formulario PPGR1'!#REF!) -> #REF! | G16: 1.1.1 Niños, niñas y Adolescentes reciben atención médica y servicios de salud basado en protocolos nacionales e internacionales. | H16: 1.1.1.08 | I16: Reunión con CEAS priorizados para revisión de Indicadores | L16: 1 | O16: 1 | R16: 1 | U16: 1 | V16: =SUM('Formulario PPGR2'!$J16:$U16) -> 4 | W16: Minuta | X16: Listado de participación | Z16: Materno Infantil y Adolescentes
B17: =IF('Formulario PPGR2'!$G17="","",CONCATENATE('Formulario PPGR2'!$C17,".",'Formulario PPGR2'!$D17,".",'Formulario PPGR2'!$E17,".",'Formulario PPGR2'!$F17)) -> #REF! | D17: =IF('Formulario PPGR2'!$G17="","",'Formulario PPGR1'!#REF!) -> #REF! | E17: =IF('Formulario PPGR2'!$G17="","",'Formulario PPGR1'!#REF!) -> #REF! | F17: =IF('Formulario PPGR2'!$G17="","",'Formulario PPGR1'!#REF!) -> #REF! | G17: 1.1.1 Niños, niñas y Adolescentes reciben atención médica y servicios de salud basado en protocolos nacionales e internacionales. | H17: 1.1.1.09 | I17: Seguimiento al fortalecimiento de las Unidades de Atención Integrales en Salud para personas Adolescentes | J17: 1 | K17: 1 | L17: 1 | M17: 1 | N17: 1 | O17: 1 | P17: 1 | Q17: 1 | R17: 1 | S17: 1 | T17: 1 | U17: 1 | V17: =SUM('Formulario PPGR2'!$J17:$U17) -> 12 | W17: Informe | X17: Listado de participación | Y17: Informe/ Listado de participación (ver cronograma de visitas) | Z17: Materno Infantil y Adolescentes
B18: =IF('Formulario PPGR2'!$G18="","",CONCATENATE('Formulario PPGR2'!$C18,".",'Formulario PPGR2'!$D18,".",'Formulario PPGR2'!$E18,".",'Formulario PPGR2'!$F18)) -> #REF! | D18: =IF('Formulario PPGR2'!$G18="","",'Formulario PPGR1'!#REF!) -> #REF! | E18: =IF('Formulario PPGR2'!$G18="","",'Formulario PPGR1'!#REF!) -> #REF! | F18: =IF('Formulario PPGR2'!$G18="","",'Formulario PPGR1'!#REF!) -> #REF! | G18: 1.1.1 Niños, niñas y Adolescentes reciben atención médica y servicios de salud basado en protocolos nacionales e internacionales. | H18: 1.1.1.10 | I18: Seguimiento al fortalecimiento de las Consultas Diferenciadas en los CEAS | L18: 1 | O18: 1 | R18: 1 | U18: 1 | V18: =SUM('Formulario PPGR2'!$J18:$U18) -> 4 | W18: Informe | X18: Listado de participación | Z18: Materno Infantil y Adolescentes
B19: =IF('Formulario PPGR2'!$G19="","",CONCATENATE('Formulario PPGR2'!$C19,".",'Formulario PPGR2'!$D19,".",'Formulario PPGR2'!$E19,".",'Formulario PPGR2'!$F19)) -> #REF! | C19: =IF('Formulario PPGR2'!$G19="","",'Formulario PPGR1'!#REF!) -> #REF! | D19: =IF('Formulario PPGR2'!$G19="","",'Formulario PPGR1'!#REF!) -> #REF! | E19: =IF('Formulario PPGR2'!$G19="","",'Formulario PPGR1'!#REF!) -> #REF! | F19: =IF('Formulario PPGR2'!$G19="","",'Formulario PPGR1'!#REF!) -> #REF! | G19: 1.1.1 Niños, niñas y Adolescentes reciben atención médica y servicios de salud basado en protocolos nacionales e internacionales. | H19: 1.1.1.11 | I19: Socialización de las Guías Nacionales de Atención Integral a la Salud de Adolescentes por SRS | J19: 1 | M19: 1 | P19: 1 | S19: 1 | V19: =SUM('Formulario PPGR2'!$J19:$U19) -> 4 | W19: Listado de participación | X19: Agenda | Z19: Materno Infantil y Adolescentes
B20: =IF('Formulario PPGR2'!$G20="","",CONCATENATE('Formulario PPGR2'!$C20,".",'Formulario PPGR2'!$D20,".",'Formulario PPGR2'!$E20,".",'Formulario PPGR2'!$F20)) -> #REF! | D20: =IF('Formulario PPGR2'!$G20="","",'Formulario PPGR1'!#REF!) -> #REF! | E20: =IF('Formulario PPGR2'!$G20="","",'Formulario PPGR1'!#REF!) -> #REF! | F20: =IF('Formulario PPGR2'!$G20="","",'Formulario PPGR1'!#REF!) -> #REF! | G20: 1.1.1 Niños, niñas y Adolescentes reciben atención médica y servicios de salud basado en protocolos nacionales e internacionales. | H20: 1.1.1.12 | I20: Análisis de la Planificación familiar en Adolescentes | J20: 1 | M20: 1 | P20: 1 | S20: 1 | V20: =SUM('Formulario PPGR2'!$J20:$U20) -> 4 | W20: Informe | X20: Reporte | Z20: Materno Infantil y Adolescentes
