Workbook
Name Azua: Prov!$C$3:$C$12
Name Bahoruco: Prov!$C$13:$C$17
Name Barahona: Prov!$C$18:$C$28
Name CodigoActividad: 'Formulario PPGR2'!$H$110:$H$265
Name Dajabon: Prov!$C$29:$C$33
Name Dajabón: Prov!$C$29:$C$33
Name Distrito_Nacional: Prov!$C$2
Name Duarte: Prov!$C$34:$C$40
Name El_Seibo: Prov!$C$41:$C$42
Name Elias_Pina: Prov!$C$43:$C$48
Name Elías_Piña: Prov!$C$43:$C$48
Name Espaillat: Prov!$C$49:$C$52
Name Hato_Mayor: Prov!$C$53:$C$55
Name Hermanas_Mirabal: Prov!$C$56:$C$58
Name Independencia: Prov!$C$59:$C$64
Name La_Altagracia: Prov!$C$65:$C$66
Name La_Romana: Prov!$C$67:$C$69
Name La_Vega: Prov!$C$70:$C$73
Name Le.1: Obj!$D$122:$D$124
Name Le.2: Obj!$D$125:$D$127
Name Le.3: Obj!$D$128:$D$134
Name Le.4: Obj!$D$134
Name ls_ComprayAlquiler: Catalogo!$G$34:$G$42
Name ls_Departamento: Catalogo!$D$37:$D$97
Name Ls_DepartamentosSRS: Catalogo!$G$170:$G$182
Name Ls_DependenciasSRS: Catalogo!$B$137:$B$142
Name ls_Direccion: Catalogo!$D$33:$D$34
Name Ls_DivisionesSRS: Catalogo!$E$145:$E$161
Name Ls_Estructura: Catalogo!$B$24:$B$29
Name Ls_GerenciasSRS: Catalogo!$E$164:$E$166
Name Ls_LinesEstategica: Obj!$B$6:$B$8
Name Ls_Medio_Verificacion: Catalogo!$B$188:$B$207
Name Ls_ObjEstrategico: Obj!$G$6:$G$21
Name Ls_Oficina: Catalogo!$D$127:$D$130
Name Ls_OficinasSRS: Catalogo!$E$179:$E$181
Name ls_Regiones: Catalogo!$B$10:$B$20
Name ls_SubDireccion: Catalogo!$D$100:$D$120
Name ls_TiposAcciones: Catalogo!$G$11:$G$14
Name ls_UnidadesSRS: Catalogo!$B$145:$B$173
Name lsAcabadosTextiles: Insumos!$C$2:$C$3
Name lsAireAcondicionado: Insumos!$C$333:$C$334
Name lsAlimentosyBebidas: Insumos!$C$4:$C$23
Name lsArticulosdePlastico: Insumos!$C$24:$C$30
Name lsElectrodomesticos: Insumos!$C$31:$C$35
Name lsEquiposComputos: Insumos!$C$132:$C$136
Name lsEquiposMedicos: Insumos!$C$44:$C$131
Name lsEquiposSeguridad: Insumos!$C$137:$C$138
Name lsEquiposTransporte: Insumos!$C$526:$C$528
Name lsEventosGenerales: Insumos!$C$139:$C$141
Name lsFuentesFinanciamiento: LSIns!$F$5:$F$8
Name lsGasoil: Insumos!$C$142:$C$149
Name lsHerramientasMenores: Insumos!$C$150:$C$179
Name lsImpresionyEncuadernacion: Insumos!$C$180
Name lsInsumos: LSIns!$B$5:$B$45
Name lsInsumosEquipos: LSIns!$F$16:$F$31
Name lsLlantasyNeumaticos: Insumos!$C$181:$C$188
Name lsMantenimiento: Insumos!$C$189:$C$202
Name lsMantenimientoyReparacion: Catalogo!$G$28:$G$31
Name lsMaterialesdeLimpieza: Insumos!$C$203:$C$217
Name lsMueblesdeAlojamiento: Insumos!$C$218:$C$219

Sheet Resumen
I1: Siglas Dependencias DC-SNS
A2: Servicio Nacional de Salud | I2: Dirección Ejecutiva (DE)
A3: Dirección de Planificación y Desarrollo | I3: Atención a Usuarios (DAU)
I4: Laboratorio e Imágenes (LCI)
A5: Cantidad acciones/actividades/trimestre | I5: Cooperación Internacional (COP)
A6: Primer Trimestre | B6: =+'Formulario PPGR2'!$J$266+'Formulario PPGR2'!$K$266+'Formulario PPGR2'!$L$266 -> 212 | I6: Calidad Institucional (DCG)
A7: Segundo Trimestre | B7: =+'Formulario PPGR2'!$M$266+'Formulario PPGR2'!$N$266+'Formulario PPGR2'!$O$266 -> 313 | I7: Administración (ADM)
A8: Tercer Trimestre | B8: =+'Formulario PPGR2'!$P$266+'Formulario PPGR2'!$Q$266+'Formulario PPGR2'!$R$266 -> 291 | I8: Dirección Centros Hospitalarios (DCH)
A9: Cuarto Trimestre | B9: =+'Formulario PPGR2'!$S$266+'Formulario PPGR2'!$T$266+'Formulario PPGR2'!$U$266 -> 293 | I9: Servicios de Atención Emergencias Extrahospitalaria (DAEH)
A10: Total actividades del año | B10: =SUM(B6:B9) -> 1109 | I10: Comunicaciones (DCE)
I11: Financiero (DFI)
I12: Gestión Clínica (DGC)
I13: Proyectos Institucionales (DPI)
I14: Cuidados de Enfermería (ENF)
I15: Desarrollo Institucional (DDI)
I16: Seguimiento, Evaluación y Calidad de los Servicios de Salud (GCSS)
A17: Tabla Resumen POA | B17: {=+'Formulario PPGR1'!M2:O2} -> 2025 | C17: 0 | D17: 0 | I17: Oficina Equidad Género (OEG)
A18: Área Organizacional | B18: Presupuesto | C18: Nº Productos | D18: Nº Actividades | E18: % (Productos) | F18: % (Actividades) | G18: % (Presupuesto) | I18: Recursos Humanos (DRH)
E19: =+C19/$C$37 -> #DIV/0! | F19: =+D19/$D$37 -> #DIV/0! | G19: =+B19/$B$37 -> #DIV/0! | I19: Infraestructura y Equipos (DIE)
E20: =+C20/$C$37 -> #DIV/0! | F20: =+D20/$D$37 -> #DIV/0! | G20: =+B20/$B$37 -> #DIV/0! | I20: Jurídica (DCJ)
E21: =+C21/$C$37 -> #DIV/0! | F21: =+D21/$D$37 -> #DIV/0! | G21: =+B21/$B$37 -> #DIV/0! | I21: Formulación, Monitoreo y Evaluación de PPP (FME)
E22: =+C22/$C$37 -> #DIV/0! | F22: =+D22/$D$37 -> #DIV/0! | G22: =+B22/$B$37 -> #DIV/0! | I22: Planificación (DPD)
E23: =+C23/$C$37 -> #DIV/0! | F23: =+D23/$D$37 -> #DIV/0! | G23: =+B23/$B$37 -> #DIV/0! | I23: Dirección Primer Nivel (DPN)
E24: =+C24/$C$37 -> #DIV/0! | F24: =+D24/$D$37 -> #DIV/0! | G24: =+B24/$B$37 -> #DIV/0! | I24: Asistencia a la Red (DAR)
E25: =+C25/$C$37 -> #DIV/0! | F25: =+D25/$D$37 -> #DIV/0! | G25: =+B25/$B$37 -> #DIV/0! | I25: Seguridad Física (DSF)
E26: =+C26/$C$37 -> #DIV/0! | F26: =+D26/$D$37 -> #DIV/0! | G26: =+B26/$B$37 -> #DIV/0! | I26: Sistema de Información (DGI)
E27: =+C27/$C$37 -> #DIV/0! | F27: =+D27/$D$37 -> #DIV/0! | G27: =+B27/$B$37 -> #DIV/0! | I27: Tecnología de la Información (DTI)
E28: =+C28/$C$37 -> #DIV/0! | F28: =+D28/$D$37 -> #DIV/0! | G28: =+B28/$B$37 -> #DIV/0! | I28: Monitoreo Calidad de los Servicios de Salud (MCS)
E29: =+C29/$C$37 -> #DIV/0! | F29: =+D29/$D$37 -> #DIV/0! | G29: =+B29/$B$37 -> #DIV/0! | I29: Materno-Infantil (MIA)
E30: =+C30/$C$37 -> #DIV/0! | F30: =+D30/$D$37 -> #DIV/0! | G30: =+B30/$B$37 -> #DIV/0! | I30: Oficina de Acceso a la Información (OAI)
... E36: =+C36/$C$37 -> #DIV/0! | F36: =+D36/$D$37 -> #DIV/0! | G36: =+B36/$B$37 -> #DIV/0! | I36: Salud Mental (DSM)
A37: Total | B37: =SUM(B19:B36) -> 0 | C37: =SUM(C19:C36) -> 0 | D37: =SUM(D19:D36) -> 0 | E37: =SUM(E19:E36) -> #DIV/0! | F37: =SUM(F19:F36) -> #DIV/0! | G37: =SUM(G19:G36) -> #DIV/0! | I37: Compras y Contrataciones (DCC)
I38: Archivo y Correspondencia (DAC)
I39: Servicios Generales (DSG)
I40: Activo Fijo (DAF)
I41: Almacén y Suministros (DAS)
I42: Litigios (LIT)
I43: Elaboración de Documentos Legales (EDL)
I44: Gestión de Servicios de Laboratorio y Sangre (GLS)
I45: Gestión Servicios de Imágenes (GSI)
...

Sheet Formulario PPGR1
G2: Servicio Nacional de Salud | L2: Año del POA: | M2: 2025
G3: Dirección de Planificación y Desarrollo | L3: Servicio Regional de Salud: | M3: SNS - Dirección Central | Q3: =VLOOKUP(M3,Catalogo!$B$10:$C$20,2,FALSE) -> Ls_Estructura
G4: Plan Operativo Anual | L4: Estructura: | M4: Dirección | Q4: =IF(Q3="Ls_Estructura",VLOOKUP(M4,Catalogo!B24:C28,2,FALSE),VLOOKUP(M4,Catalogo!$B$137:$C$141,2,FALSE)) -> Ls_Direccion
G5: Identificación de Productos/Resultados | L5: =IF(Q3="Ls_Estructura",VLOOKUP($M$4,Catalogo!$B$24:$D$29,3,FALSE),VLOOKUP($M$4,Catalogo!$B$137:$D$141,3,FALSE)) -> Dirección: | M5: SNS - Dirección Central
B8: ID_Dependendencia | C8: POA | D8: SRS | E8: AREA | F8: Eje Estratégico | G8: Cod_LE | H8: Objetivo | I8: Cod_Obj | J8: Resultado esperado | K8: Productos | L8: Indicador | M8: Unidad de medida | N8: Línea Base | O8: Meta | P8: Supuestos | Q8: Dependencia responsable
B9: =IF('Formulario PPGR1'!$F9="","",CONCATENATE('Formulario PPGR1'!$C9,".",'Formulario PPGR1'!$D9,".",'Formulario PPGR1'!$E9,".",#REF!)) -> #REF! | C9: =IF('Formulario PPGR1'!$F9="","",#REF!) -> #REF! | D9: =IF('Formulario PPGR1'!$F9="","",#REF!) -> #REF! | E9: =IF('Formulario PPGR1'!$F9="","",#REF!) -> #REF! | F9: LE.1 - Desarrollo y fortalecimiento de las redes integradas de servicios de salud fundamentada en el Modelo de Atención | G9: {=_xlfn.XLOOKUP($F9,LE_tbl[[#All],[Ls_LinesEstategica]],LE_tbl[[#All],[Le_code]],"",0)} -> #NAME? | H9: 1.1 Fortalecer los niveles de atención priorizando el Primer Nivel de Atención, incrementando su capacidad de resolución para satisfacer eficientemente las necesidades de salud de la población. | I9: =_xlfn.XLOOKUP($H9,Obj!$D$122:$D$134,Obj!$E$122:$E$134,"",0) -> #NAME? | J9: 1.1.1 Primer Nivel de Atención fortalecido y con alta resolución para garantizar la prestación de servicios integrales de promoción de la salud, prevención de la enfermedad, diagnóstico, tratamiento, rehabilitación y cuidados paliativos; condicionada a la necesidades de salud y características de la población | K9: 1.1.1.1 Aumento de la cobertura de Adscripción en el PNA | Q9: Primer Nivel
B10: =IF('Formulario PPGR1'!$F10="","",CONCATENATE('Formulario PPGR1'!$C10,".",'Formulario PPGR1'!$D10,".",'Formulario PPGR1'!$E10,".",#REF!)) | C10: =IF('Formulario PPGR1'!$F10="","",#REF!) | D10: =IF('Formulario PPGR1'!$F10="","",#REF!) | E10: =IF('Formulario PPGR1'!$F10="","",#REF!) | G10: {=_xlfn.XLOOKUP($F10,LE_tbl[[#All],[Ls_LinesEstategica]],LE_tbl[[#All],[Le_code]],"",0)} -> #NAME? | I10: =_xlfn.XLOOKUP($H10,Obj!$D$122:$D$134,Obj!$E$122:$E$134,"",0) -> #NAME? | K10: 1.1.1.2 Fortalecimiento del Primer Nivel de Atención sustentado en la implementación del Modelo de Atención | Q10: Primer Nivel
B11: =IF('Formulario PPGR1'!$F11="","",CONCATENATE('Formulario PPGR1'!$C11,".",'Formulario PPGR1'!$D11,".",'Formulario PPGR1'!$E11,".",#REF!)) | C11: =IF('Formulario PPGR1'!$F11="","",#REF!) | D11: =IF('Formulario PPGR1'!$F11="","",#REF!) | E11: =IF('Formulario PPGR1'!$F11="","",#REF!) | G11: {=_xlfn.XLOOKUP($F11,LE_tbl[[#All],[Ls_LinesEstategica]],LE_tbl[[#All],[Le_code]],"",0)} -> #NAME? | I11: =_xlfn.XLOOKUP($H11,Obj!$D$122:$D$134,Obj!$E$122:$E$134,"",0) -> #NAME? | K11: 1.1.1.3 Despliegue del programa salud escolar | Q11: Primer Nivel
B12: =IF('Formulario PPGR1'!$F12="","",CONCATENATE('Formulario PPGR1'!$C12,".",'Formulario PPGR1'!$D12,".",'Formulario PPGR1'!$E12,".",#REF!)) -> #REF! | C12: =IF('Formulario PPGR1'!$F12="","",#REF!) -> #REF! | D12: =IF('Formulario PPGR1'!$F12="","",#REF!) -> #REF! | E12: =IF('Formulario PPGR1'!$F12="","",#REF!) -> #REF! | F12: LE.1 - Desarrollo y fortalecimiento de las redes integradas de servicios de salud fundamentada en el Modelo de Atención | G12: {=_xlfn.XLOOKUP($F12,LE_tbl[[#All],[Ls_LinesEstategica]],LE_tbl[[#All],[Le_code]],"",0)} -> #NAME? | H12: 1.1 Fortalecer los niveles de atención priorizando el Primer Nivel de Atención, incrementando su capacidad de resolución para satisfacer eficientemente las necesidades de salud de la población. | I12: =_xlfn.XLOOKUP($H12,Obj!$D$122:$D$134,Obj!$E$122:$E$134,"",0) -> #NAME? | J12: 1.1.2 Reducida la carga de las enfermedades crónicas incluidos los diferentes tipos de cáncer, los trastornos de salud mental, así como ante discapacidad, violencia y traumatismos, a través de servicios de atención que faciliten la detección temprana y la continuidad de la atención, eliminando las brechas en el acceso y utilización de los servicios de salud. | K12: 1.1.2.1 Programa de Fortalecimiento del Nivel Especializado | Q12: Centros Hospitalarios
B13: =IF('Formulario PPGR1'!$F13="","",CONCATENATE('Formulario PPGR1'!$C13,".",'Formulario PPGR1'!$D13,".",'Formulario PPGR1'!$E13,".",#REF!)) | C13: =IF('Formulario PPGR1'!$F13="","",#REF!) | D13: =IF('Formulario PPGR1'!$F13="","",#REF!) | E13: =IF('Formulario PPGR1'!$F13="","",#REF!) | G13: {=_xlfn.XLOOKUP($F13,LE_tbl[[#All],[Ls_LinesEstategica]],LE_tbl[[#All],[Le_code]],"",0)} -> #NAME? | I13: =_xlfn.XLOOKUP($H13,Obj!$D$122:$D$134,Obj!$E$122:$E$134,"",0) -> #NAME? | K13: 1.1.2.2 Operaciones de emergencias y gestión de riesgos | Q13: Centros Hospitalarios
B14: =IF('Formulario PPGR1'!$F14="","",CONCATENATE('Formulario PPGR1'!$C14,".",'Formulario PPGR1'!$D14,".",'Formulario PPGR1'!$E14,".",#REF!)) | C14: =IF('Formulario PPGR1'!$F14="","",#REF!) | D14: =IF('Formulario PPGR1'!$F14="","",#REF!) | E14: =IF('Formulario PPGR1'!$F14="","",#REF!) | G14: {=_xlfn.XLOOKUP($F14,LE_tbl[[#All],[Ls_LinesEstategica]],LE_tbl[[#All],[Le_code]],"",0)} -> #NAME? | I14: =_xlfn.XLOOKUP($H14,Obj!$D$122:$D$134,Obj!$E$122:$E$134,"",0) -> #NAME? | K14: 1.1.2.3 Implementación de la estrategia HEARTS para la prevención y control de las enfermedades crónicas no transmisibles (ECNT) implementada. | Q14: Primer Nivel
B15: =IF('Formulario PPGR1'!$F15="","",CONCATENATE('Formulario PPGR1'!$C15,".",'Formulario PPGR1'!$D15,".",'Formulario PPGR1'!$E15,".",#REF!)) | C15: =IF('Formulario PPGR1'!$F15="","",#REF!) | D15: =IF('Formulario PPGR1'!$F15="","",#REF!) | E15: =IF('Formulario PPGR1'!$F15="","",#REF!) | G15: {=_xlfn.XLOOKUP($F15,LE_tbl[[#All],[Ls_LinesEstategica]],LE_tbl[[#All],[Le_code]],"",0)} -> #NAME? | I15: =_xlfn.XLOOKUP($H15,Obj!$D$122:$D$134,Obj!$E$122:$E$134,"",0) -> #NAME? | K15: 1.1.2.4 Fortalecimiento de la atención integral a menores de 5 años | Q15: Primer Nivel Materno Infantil
B16: =IF('Formulario PPGR1'!$F16="","",CONCATENATE('Formulario PPGR1'!$C16,".",'Formulario PPGR1'!$D16,".",'Formulario PPGR1'!$E16,".",#REF!)) | C16: =IF('Formulario PPGR1'!$F16="","",#REF!) | D16: =IF('Formulario PPGR1'!$F16="","",#REF!) | E16: =IF('Formulario PPGR1'!$F16="","",#REF!) | G16: {=_xlfn.XLOOKUP($F16,LE_tbl[[#All],[Ls_LinesEstategica]],LE_tbl[[#All],[Le_code]],"",0)} -> #NAME? | I16: =_xlfn.XLOOKUP($H16,Obj!$D$122:$D$134,Obj!$E$122:$E$134,"",0) -> #NAME? | K16: 1.1.2.5 Fotalecimiento de los servicios de la red de servicios de Salud Mental | Q16: Gestión Clínica
B17: =IF('Formulario PPGR1'!$F17="","",CONCATENATE('Formulario PPGR1'!$C17,".",'Formulario PPGR1'!$D17,".",'Formulario PPGR1'!$E17,".",#REF!)) | C17: =IF('Formulario PPGR1'!$F17="","",#REF!) | D17: =IF('Formulario PPGR1'!$F17="","",#REF!) | E17: =IF('Formulario PPGR1'!$F17="","",#REF!) | G17: {=_xlfn.XLOOKUP($F17,LE_tbl[[#All],[Ls_LinesEstategica]],LE_tbl[[#All],[Le_code]],"",0)} -> #NAME? | I17: =_xlfn.XLOOKUP($H17,Obj!$D$122:$D$134,Obj!$E$122:$E$134,"",0) -> #NAME? | K17: 1.1.2.6 Seguimiento a la aplicación de los protocolos de las enfermedades zoonóticas | Q17: Gestión Clínica
B18: =IF('Formulario PPGR1'!$F18="","",CONCATENATE('Formulario PPGR1'!$C18,".",'Formulario PPGR1'!$D18,".",'Formulario PPGR1'!$E18,".",#REF!)) | C18: =IF('Formulario PPGR1'!$F18="","",#REF!) | D18: =IF('Formulario PPGR1'!$F18="","",#REF!) | E18: =IF('Formulario PPGR1'!$F18="","",#REF!) | G18: {=_xlfn.XLOOKUP($F18,LE_tbl[[#All],[Ls_LinesEstategica]],LE_tbl[[#All],[Le_code]],"",0)} -> #NAME? | I18: =_xlfn.XLOOKUP($H18,Obj!$D$122:$D$134,Obj!$E$122:$E$134,"",0) -> #NAME?
B19: =IF('Formulario PPGR1'!$F19="","",CONCATENATE('Formulario PPGR1'!$C19,".",'Formulario PPGR1'!$D19,".",'Formulario PPGR1'!$E19,".",#REF!)) -> #REF! | C19: =IF('Formulario PPGR1'!$F19="","",#REF!) -> #REF! | D19: =IF('Formulario PPGR1'!$F19="","",#REF!) -> #REF! | E19: =IF('Formulario PPGR1'!$F19="","",#REF!) -> #REF! | F19: LE.1 - Desarrollo y fortalecimiento de las redes integradas de servicios de salud fundamentada en el Modelo de Atención | G19: {=_xlfn.XLOOKUP($F19,LE_tbl[[#All],[Ls_LinesEstategica]],LE_tbl[[#All],[Le_code]],"",0)} -> #NAME? | H19: 1.1 Fortalecer los niveles de atención priorizando el Primer Nivel de Atención, incrementando su capacidad de resolución para satisfacer eficientemente las necesidades de salud de la población. | I19: =_xlfn.XLOOKUP($H19,Obj!$D$122:$D$134,Obj!$E$122:$E$134,"",0) -> #NAME? | J19: 1.1.3 Reducida la morbi-mortalidad de las enfermedades transmisibles, incluidas la infección por el VIH/SIDA, la Tuberculosis, las infecciones de transmisión sexual, las hepatitis virales, enfermedades transmitidas por vectores, enfermedades desatendidas, tropicales y zoonóticas, y las enfermedades prevenibles mediante vacunación; con especial atención en las poblaciones vulnerables | K19: 1.1.3.1 Aumento de la provisión de servicios de salud sexual y reproductiva en la Red SNS | Q19: Primer Nivel Materno Infantil Gestión Clínica
B20: =IF('Formulario PPGR1'!$F20="","",CONCATENATE('Formulario PPGR1'!$C20,".",'Formulario PPGR1'!$D20,".",'Formulario PPGR1'!$E20,".",#REF!)) | C20: =IF('Formulario PPGR1'!$F20="","",#REF!) | D20: =IF('Formulario PPGR1'!$F20="","",#REF!) | E20: =IF('Formulario PPGR1'!$F20="","",#REF!) | G20: {=_xlfn.XLOOKUP($F20,LE_tbl[[#All],[Ls_LinesEstategica]],LE_tbl[[#All],[Le_code]],"",0)} -> #NAME? | I20: =_xlfn.XLOOKUP($H20,Obj!$D$122:$D$134,Obj!$E$122:$E$134,"",0) -> #NAME? | K20: 1.1.3.2 Mejorar la atención de enfermedades transmisibles | Q20: Primer Nivel Gestión Clínica
B21: =IF('Formulario PPGR1'!$F21="","",CONCATENATE('Formulario PPGR1'!$C21,".",'Formulario PPGR1'!$D21,".",'Formulario PPGR1'!$E21,".",#REF!)) | C21: =IF('Formulario PPGR1'!$F21="","",#REF!) | D21: =IF('Formulario PPGR1'!$F21="","",#REF!) | E21: =IF('Formulario PPGR1'!$F21="","",#REF!) | G21: {=_xlfn.XLOOKUP($F21,LE_tbl[[#All],[Ls_LinesEstategica]],LE_tbl[[#All],[Le_code]],"",0)} -> #NAME? | I21: =_xlfn.XLOOKUP($H21,Obj!$D$122:$D$134,Obj!$E$122:$E$134,"",0) -> #NAME? | K21: 1.1.3.3 Fortalecimiento de la capacidad de los servicios de salud de VIH para garantizar la atencion integral y de calidad centrada en el paciente de VIH para cumplir las metas 95-95-95 al 2030 y el PoR 42 | Q21: Gestión Clínica
B22: =IF('Formulario PPGR1'!$F22="","",CONCATENATE('Formulario PPGR1'!$C22,".",'Formulario PPGR1'!$D22,".",'Formulario PPGR1'!$E22,".",#REF!)) | C22: =IF('Formulario PPGR1'!$F22="","",#REF!) | D22: =IF('Formulario PPGR1'!$F22="","",#REF!) | E22: =IF('Formulario PPGR1'!$F22="","",#REF!) | G22: {=_xlfn.XLOOKUP($F22,LE_tbl[[#All],[Ls_LinesEstategica]],LE_tbl[[#All],[Le_code]],"",0)} -> #NAME? | I22: =_xlfn.XLOOKUP($H22,Obj!$D$122:$D$134,Obj!$E$122:$E$134,"",0) -> #NAME? | K22: 1.1.3.4 Fortalecimiento de la capacidad de respuesta para brindar atencion integral centrada en el paciente de Tb en todas sus fases para garantizar el cumplimiento de las metas de fin de la TB al 2030 y PoR 41 | Q22: Gestión Clínica
B23: =IF('Formulario PPGR1'!$F23="","",CONCATENATE('Formulario PPGR1'!$C23,".",'Formulario PPGR1'!$D23,".",'Formulario PPGR1'!$E23,".",#REF!)) -> #REF! | C23: =IF('Formulario PPGR1'!$F23="","",#REF!) -> #REF! | D23: =IF('Formulario PPGR1'!$F23="","",#REF!) -> #REF! | E23: =IF('Formulario PPGR1'!$F23="","",#REF!) -> #REF! | F23: LE.1 - Desarrollo y fortalecimiento de las redes integradas de servicios de salud fundamentada en el Modelo de Atención | G23: {=_xlfn.XLOOKUP($F23,LE_tbl[[#All],[Ls_LinesEstategica]],LE_tbl[[#All],[Le_code]],"",0)} -> #NAME? | H23: 1.2 Avanzar en la articulación de las redes de servicios, asegurando que la atención sea integral y acorde con las necesidades territoriales de la población. | I23: =_xlfn.XLOOKUP($H23,Obj!$D$122:$D$134,Obj!$E$122:$E$134,"",0) -> #NAME? | J23: 1.2.1 Redes de servicios integradas y con mayor resolución para coordinar la prestación de servicios integrales de promoción de la salud, prevención de la enfermedad, diagnóstico, tratamiento, rehabilitación y cuidados paliativos; condicionada a la necesidades de salud y características de la población, con miras hacia la consecución progresiva del acceso universal a la salud y la cobertura universal de salud | K23: 1.2.1.1 Desarrollo del Programa de Salud Bucal | Q23: Odontología
B24: =IF('Formulario PPGR1'!$F24="","",CONCATENATE('Formulario PPGR1'!$C24,".",'Formulario PPGR1'!$D24,".",'Formulario PPGR1'!$E24,".",#REF!)) | C24: =IF('Formulario PPGR1'!$F24="","",#REF!) | D24: =IF('Formulario PPGR1'!$F24="","",#REF!) | E24: =IF('Formulario PPGR1'!$F24="","",#REF!) | G24: {=_xlfn.XLOOKUP($F24,LE_tbl[[#All],[Ls_LinesEstategica]],LE_tbl[[#All],[Le_code]],"",0)} -> #NAME? | I24: =_xlfn.XLOOKUP($H24,Obj!$D$122:$D$134,Obj!$E$122:$E$134,"",0) -> #NAME? | K24: 1.2.1.2 Mejora del suministro y abastecimiento de medicamentos | Q24: Medicamentos e Insumos
B25: =IF('Formulario PPGR1'!$F25="","",CONCATENATE('Formulario PPGR1'!$C25,".",'Formulario PPGR1'!$D25,".",'Formulario PPGR1'!$E25,".",#REF!)) | C25: =IF('Formulario PPGR1'!$F25="","",#REF!) | D25: =IF('Formulario PPGR1'!$F25="","",#REF!) | E25: =IF('Formulario PPGR1'!$F25="","",#REF!) | G25: {=_xlfn.XLOOKUP($F25,LE_tbl[[#All],[Ls_LinesEstategica]],LE_tbl[[#All],[Le_code]],"",0)} -> #NAME? | I25: =_xlfn.XLOOKUP($H25,Obj!$D$122:$D$134,Obj!$E$122:$E$134,"",0) -> #NAME? | K25: 1.2.1.3 Ampliación y mejora de la provisión de servicios de apoyo diagnóstico y laboratorio | Q25: Laboratorios e Imágenes
B26: =IF('Formulario PPGR1'!$F26="","",CONCATENATE('Formulario PPGR1'!$C26,".",'Formulario PPGR1'!$D26,".",'Formulario PPGR1'!$E26,".",#REF!)) -> #REF! | C26: =IF('Formulario PPGR1'!$F26="","",#REF!) -> #REF! | D26: =IF('Formulario PPGR1'!$F26="","",#REF!) -> #REF! | E26: =IF('Formulario PPGR1'!$F26="","",#REF!) -> #REF! | F26: LE.1 - Desarrollo y fortalecimiento de las redes integradas de servicios de salud fundamentada en el Modelo de Atención | G26: {=_xlfn.XLOOKUP($F26,LE_tbl[[#All],[Ls_LinesEstategica]],LE_tbl[[#All],[Le_code]],"",0)} -> #NAME? | H26: 1.2 Avanzar en la articulación de las redes de servicios, asegurando que la atención sea integral y acorde con las necesidades territoriales de la población. | I26: =_xlfn.XLOOKUP($H26,Obj!$D$122:$D$134,Obj!$E$122:$E$134,"",0) -> #NAME? | J26: 1.2.5 Aumentada la eficacia, eficiencia y equidad de la prestación de los servicios de salud a través de la reorganización y transformación de las estructuras de redes de servicios | K26: 1.2.5.1 Implementación de la Metodología de la Gestión Productiva de Servicios de Salud | Q26: Centros Hospitalarios
B27: =IF('Formulario PPGR1'!$F27="","",CONCATENATE('Formulario PPGR1'!$C27,".",'Formulario PPGR1'!$D27,".",'Formulario PPGR1'!$E27,".",#REF!)) | C27: =IF('Formulario PPGR1'!$F27="","",#REF!) | D27: =IF('Formulario PPGR1'!$F27="","",#REF!) | E27: =IF('Formulario PPGR1'!$F27="","",#REF!) | G27: {=_xlfn.XLOOKUP($F27,LE_tbl[[#All],[Ls_LinesEstategica]],LE_tbl[[#All],[Le_code]],"",0)} -> #NAME? | I27: =_xlfn.XLOOKUP($H27,Obj!$D$122:$D$134,Obj!$E$122:$E$134,"",0) -> #NAME? | K27: 1.2.5.2 Despliegue de la Cartera de Servicios en la Red de Servicio Nacional de Salud | Q27: Gestión Clínica
B28: =IF('Formulario PPGR1'!$F28="","",CONCATENATE('Formulario PPGR1'!$C28,".",'Formulario PPGR1'!$D28,".",'Formulario PPGR1'!$E28,".",#REF!)) -> #REF! | C28: =IF('Formulario PPGR1'!$F28="","",#REF!) -> #REF! | D28: =IF('Formulario PPGR1'!$F28="","",#REF!) -> #REF! | E28: =IF('Formulario PPGR1'!$F28="","",#REF!) -> #REF! | F28: LE.1 - Desarrollo y fortalecimiento de las redes integradas de servicios de salud fundamentada en el Modelo de Atención | G28: {=_xlfn.XLOOKUP($F28,LE_tbl[[#All],[Ls_LinesEstategica]],LE_tbl[[#All],[Le_code]],"",0)} -> #NAME? | H28: 1.2 Avanzar en la articulación de las redes de servicios, asegurando que la atención sea integral y acorde con las necesidades territoriales de la población. | I28: =_xlfn.XLOOKUP($H28,Obj!$D$122:$D$134,Obj!$E$122:$E$134,"",0) -> #NAME? | J28: 1.2.2 Garantizada la atención integral con calidad y oportunidad, mediante la coordinación clínica y asistencial de los servicios de salud | K28: 1.2.2.1 Articulación de la Red SNS | Q28: Atención a los Usuarios
B29: =IF('Formulario PPGR1'!$F29="","",CONCATENATE('Formulario PPGR1'!$C29,".",'Formulario PPGR1'!$D29,".",'Formulario PPGR1'!$E29,".",#REF!)) | C29: =IF('Formulario PPGR1'!$F29="","",#REF!) | D29: =IF('Formulario PPGR1'!$F29="","",#REF!) | E29: =IF('Formulario PPGR1'!$F29="","",#REF!) | G29: {=_xlfn.XLOOKUP($F29,LE_tbl[[#All],[Ls_LinesEstategica]],LE_tbl[[#All],[Le_code]],"",0)} -> #NAME? | I29: =_xlfn.XLOOKUP($H29,Obj!$D$122:$D$134,Obj!$E$122:$E$134,"",0) -> #NAME? | K29: 1.2.2.2 Provisión de servicios de Salud Materno, Infantil y Adolescentes de Calidad
B30: =IF('Formulario PPGR1'!$F30="","",CONCATENATE('Formulario PPGR1'!$C30,".",'Formulario PPGR1'!$D30,".",'Formulario PPGR1'!$E30,".",#REF!)) -> #REF! | C30: =IF('Formulario PPGR1'!$F30="","",#REF!) -> #REF! | D30: =IF('Formulario PPGR1'!$F30="","",#REF!) -> #REF! | E30: =IF('Formulario PPGR1'!$F30="","",#REF!) -> #REF! | F30: LE.1 - Desarrollo y fortalecimiento de las redes integradas de servicios de salud fundamentada en el Modelo de Atención | G30: {=_xlfn.XLOOKUP($F30,LE_tbl[[#All],[Ls_LinesEstategica]],LE_tbl[[#All],[Le_code]],"",0)} -> #NAME? | H30: 1.2 Avanzar en la articulación de las redes de servicios, asegurando que la atención sea integral y acorde con las necesidades territoriales de la población. | I30: =_xlfn.XLOOKUP($H30,Obj!$D$122:$D$134,Obj!$E$122:$E$134,"",0) -> #NAME? | J30: 1.2.3 Gestión integrada y articulada de las redes públicas de servicios de salud, con actores involucrados en la organización, gestión y atención de servicios de salud con enfoque y participación intra e intersectorial y participación social y de comités de salud, que promueva un ambiente favorable para la cobertura y acceso a los servicios de salud | K30: 1.2.3.1 Comités de Salud del Primer Nivel y Hospitalarios (priorizados según Reglamento Hospitalario 434-07) | Q30: Servicios de Salud
B31: =IF('Formulario PPGR1'!$F31="","",CONCATENATE('Formulario PPGR1'!$C31,".",'Formulario PPGR1'!$D31,".",'Formulario PPGR1'!$E31,".",#REF!)) -> #REF! | C31: =IF('Formulario PPGR1'!$F31="","",#REF!) -> #REF! | D31: =IF('Formulario PPGR1'!$F31="","",#REF!) -> #REF! | E31: =IF('Formulario PPGR1'!$F31="","",#REF!) -> #REF! | F31: LE.1 - Desarrollo y fortalecimiento de las redes integradas de servicios de salud fundamentada en el Modelo de Atención | G31: {=_xlfn.XLOOKUP($F31,LE_tbl[[#All],[Ls_LinesEstategica]],LE_tbl[[#All],[Le_code]],"",0)} -> #NAME? | H31: 1.3 Asegurar la calidad de la atención y la seguridad del paciente, en el marco de los derechos de las personas, con el fin de aumentar la confianza y satisfacción de los usuarios de los servicios de salud. | I31: =_xlfn.XLOOKUP($H31,Obj!$D$122:$D$134,Obj!$E$122:$E$134,"",0) -> #NAME? | J31: 1.3.3 Desarrollo y mantenimiento de un modelo de evaluación de la entrega de servicios sanitarios con carácter igualitario y libre de discriminación, que promueva mediante la continua retroalimentación, la generación de mejores resultados en materia de salud lo que se traduzca en el aumento de la satisfacción de las personas con respecto a los servicios públicos de salud | K31: 1.3.3.1 Gestión de la Experiencia del Paciente | Q31: Atención a los Usuarios | V31: Gestión Integral de Información
B32: =IF('Formulario PPGR1'!$F32="","",CONCATENATE('Formulario PPGR1'!$C32,".",'Formulario PPGR1'!$D32,".",'Formulario PPGR1'!$E32,".",#REF!)) | C32: =IF('Formulario PPGR1'!$F32="","",#REF!) | D32: =IF('Formulario PPGR1'!$F32="","",#REF!) | E32: =IF('Formulario PPGR1'!$F32="","",#REF!) | G32: {=_xlfn.XLOOKUP($F32,LE_tbl[[#All],[Ls_LinesEstategica]],LE_tbl[[#All],[Le_code]],"",0)} -> #NAME? | I32: =_xlfn.XLOOKUP($H32,Obj!$D$122:$D$134,Obj!$E$122:$E$134,"",0) -> #NAME? | K32: 1.3.3.2 Plan de Hostelería Hospitalaria | Q32: Servicios de Salud
B33: =IF('Formulario PPGR1'!$F33="","",CONCATENATE('Formulario PPGR1'!$C33,".",'Formulario PPGR1'!$D33,".",'Formulario PPGR1'!$E33,".",#REF!)) | C33: =IF('Formulario PPGR1'!$F33="","",#REF!) | D33: =IF('Formulario PPGR1'!$F33="","",#REF!) | E33: =IF('Formulario PPGR1'!$F33="","",#REF!) | G33: {=_xlfn.XLOOKUP($F33,LE_tbl[[#All],[Ls_LinesEstategica]],LE_tbl[[#All],[Le_code]],"",0)} -> #NAME? | I33: =_xlfn.XLOOKUP($H33,Obj!$D$122:$D$134,Obj!$E$122:$E$134,"",0) -> #NAME? | K33: 1.3.3.3 Garantizar el acceso y el seguimiento a los servicios de salud para personas victimas de violencia de género e intrafamiliar | Q33: Gestión Clínica
B34: =IF('Formulario PPGR1'!$F34="","",CONCATENATE('Formulario PPGR1'!$C34,".",'Formulario PPGR1'!$D34,".",'Formulario PPGR1'!$E34,".",#REF!)) | C34: =IF('Formulario PPGR1'!$F34="","",#REF!) | D34: =IF('Formulario PPGR1'!$F34="","",#REF!) | E34: =IF('Formulario PPGR1'!$F34="","",#REF!) | G34: {=_xlfn.XLOOKUP($F34,LE_tbl[[#All],[Ls_LinesEstategica]],LE_tbl[[#All],[Le_code]],"",0)} -> #NAME? | I34: =_xlfn.XLOOKUP($H34,Obj!$D$122:$D$134,Obj!$E$122:$E$134,"",0) -> #NAME? | K34: 1.3.3.4 Incremento Cobertura de Registro Oportuno de Nacimientos
B35: =IF('Formulario PPGR1'!$F35="","",CONCATENATE('Formulario PPGR1'!$C35,".",'Formulario PPGR1'!$D35,".",'Formulario PPGR1'!$E35,".",#REF!)) -> #REF! | C35: =IF('Formulario PPGR1'!$F35="","",#REF!) -> #REF! | D35: =IF('Formulario PPGR1'!$F35="","",#REF!) -> #REF! | E35: =IF('Formulario PPGR1'!$F35="","",#REF!) -> #REF! | F35: LE.1 - Desarrollo y fortalecimiento de las redes integradas de servicios de salud fundamentada en el Modelo de Atención | G35: {=_xlfn.XLOOKUP($F35,LE_tbl[[#All],[Ls_LinesEstategica]],LE_tbl[[#All],[Le_code]],"",0)} -> #NAME? | H35: 1.3 Asegurar la calidad de la atención y la seguridad del paciente, en el marco de los derechos de las personas, con el fin de aumentar la confianza y satisfacción de los usuarios de los servicios de salud. | I35: =_xlfn.XLOOKUP($H35,Obj!$D$122:$D$134,Obj!$E$122:$E$134,"",0) -> #NAME? | J35: 1.3.4 Fortalecida la calidad de la atención en salud como resultado del seguimiento a los aspectos técnicos y no técnicos de la atención, que disminuya el riesgo de la seguridad del paciente y de los resultados esperados de salud | K35: 1.3.4.1 Monitoreo de la Calidad en los Servicios de Salud | Q35: Calidad de los Servicios de Salud
B36: =IF('Formulario PPGR1'!$F36="","",CONCATENATE('Formulario PPGR1'!$C36,".",'Formulario PPGR1'!$D36,".",'Formulario PPGR1'!$E36,".",#REF!)) | C36: =IF('Formulario PPGR1'!$F36="","",#REF!) | D36: =IF('Formulario PPGR1'!$F36="","",#REF!) | E36: =IF('Formulario PPGR1'!$F36="","",#REF!) | G36: {=_xlfn.XLOOKUP($F36,LE_tbl[[#All],[Ls_LinesEstategica]],LE_tbl[[#All],[Le_code]],"",0)} -> #NAME? | I36: =_xlfn.XLOOKUP($H36,Obj!$D$122:$D$134,Obj!$E$122:$E$134,"",0) -> #NAME? | K36: 1.3.4.2 Prevención y Control del Riesgo Biológico | Q36: Calidad de los Servicios de Salud | V36: Gestión y Control de la Planificación Institucional
B37: =IF('Formulario PPGR1'!$F37="","",CONCATENATE('Formulario PPGR1'!$C37,".",'Formulario PPGR1'!$D37,".",'Formulario PPGR1'!$E37,".",#REF!)) | C37: =IF('Formulario PPGR1'!$F37="","",#REF!) | D37: =IF('Formulario PPGR1'!$F37="","",#REF!) | E37: =IF('Formulario PPGR1'!$F37="","",#REF!) | G37: {=_xlfn.XLOOKUP($F37,LE_tbl[[#All],[Ls_LinesEstategica]],LE_tbl[[#All],[Le_code]],"",0)} -> #NAME? | I37: =_xlfn.XLOOKUP($H37,Obj!$D$122:$D$134,Obj!$E$122:$E$134,"",0) -> #NAME? | K37: 1.3.4.3 Seguimiento a la Habilitación de los Servicios de Salud | Q37: Calidad de los Servicios de Salud
B38: =IF('Formulario PPGR1'!$F38="","",CONCATENATE('Formulario PPGR1'!$C38,".",'Formulario PPGR1'!$D38,".",'Formulario PPGR1'!$E38,".",#REF!)) | C38: =IF('Formulario PPGR1'!$F38="","",#REF!) | D38: =IF('Formulario PPGR1'!$F38="","",#REF!) | E38: =IF('Formulario PPGR1'!$F38="","",#REF!) | G38: {=_xlfn.XLOOKUP($F38,LE_tbl[[#All],[Ls_LinesEstategica]],LE_tbl[[#All],[Le_code]],"",0)} -> #NAME? | I38: =_xlfn.XLOOKUP($H38,Obj!$D$122:$D$134,Obj!$E$122:$E$134,"",0) -> #NAME? | K38: 1.3.4.4 Continuidad implementacion de la Politica de estandar de los cuidados de enfemeria como indicadores de calidad | Q38: Enfermería
B39: =IF('Formulario PPGR1'!$F39="","",CONCATENATE('Formulario PPGR1'!$C39,".",'Formulario PPGR1'!$D39,".",'Formulario PPGR1'!$E39,".",#REF!)) | C39: =IF('Formulario PPGR1'!$F39="","",#REF!) | D39: =IF('Formulario PPGR1'!$F39="","",#REF!) | E39: =IF('Formulario PPGR1'!$F39="","",#REF!) | G39: {=_xlfn.XLOOKUP($F39,LE_tbl[[#All],[Ls_LinesEstategica]],LE_tbl[[#All],[Le_code]],"",0)} -> #NAME? | I39: =_xlfn.XLOOKUP($H39,Obj!$D$122:$D$134,Obj!$E$122:$E$134,"",0) -> #NAME? | K39: 1.3.4.5 Vigilancia de las Infecciones Asociadas a la Atención | Q39: Calidad de los Servicios de Salud Materno-Infantil y Adolescentes
B40: =IF('Formulario PPGR1'!$F40="","",CONCATENATE('Formulario PPGR1'!$C40,".",'Formulario PPGR1'!$D40,".",'Formulario PPGR1'!$E40,".",#REF!)) -> #REF! | C40: =IF('Formulario PPGR1'!$F40="","",#REF!) -> #REF! | D40: =IF('Formulario PPGR1'!$F40="","",#REF!) -> #REF! | E40: =IF('Formulario PPGR1'!$F40="","",#REF!) -> #REF! | F40: LE.2 - Fortalecimiento de la gestión y desarrollo de los recursos humanos. | G40: {=_xlfn.XLOOKUP($F40,LE_tbl[[#All],[Ls_LinesEstategica]],LE_tbl[[#All],[Le_code]],"",0)} -> #NAME? | H40: 2.1 Desarrollar capacidades en los colaboradores de la red de salud, mediante la formación continua, para mejorar el desempeño laboral y alinearlo con las necesidades identificadas en cada nivel de atención. | I40: =_xlfn.XLOOKUP($H40,Obj!$D$122:$D$134,Obj!$E$122:$E$134,"",0) -> #NAME? | J40: 2.1.1 Incrementada las competencias y resolutividad de los colaboradores, de acuerdo a la complejidad de sus funciones, las necesidades de salud de la población y los compromisos del sector | K40: 2.1.1.1 Programa Cuidados de enfermería en plataforma de capacitación | Q40: Enfermería
B41: =IF('Formulario PPGR1'!$F41="","",CONCATENATE('Formulario PPGR1'!$C41,".",'Formulario PPGR1'!$D41,".",'Formulario PPGR1'!$E41,".",#REF!)) -> #REF! | C41: =IF('Formulario PPGR1'!$F41="","",#REF!) -> #REF! | D41: =IF('Formulario PPGR1'!$F41="","",#REF!) -> #REF! | E41: =IF('Formulario PPGR1'!$F41="","",#REF!) -> #REF! | F41: LE.3 - Fortalecimiento Institucional | G41: {=_xlfn.XLOOKUP($F41,LE_tbl[[#All],[Ls_LinesEstategica]],LE_tbl[[#All],[Le_code]],"",0)} -> #NAME? | H41: 3.1 Fortalecer los procesos de gestión institucional para mejorar la eficiencia, transparencia y efectividad en la administración de los recursos y servicios. | I41: =_xlfn.XLOOKUP($H41,Obj!$D$122:$D$134,Obj!$E$122:$E$134,"",0) -> #NAME? | J41: 3.1.1 Fortalecida la gestión institucional y productiva mediante la mejora de la transparencia, efectividad de la administración de recursos y servicios. | K41: 3.1.1.1 Transparencia de la Gestión y Participación Ciudadana | Q41: Oficina Acceso a la Información
B42: =IF('Formulario PPGR1'!$F42="","",CONCATENATE('Formulario PPGR1'!$C42,".",'Formulario PPGR1'!$D42,".",'Formulario PPGR1'!$E42,".",#REF!)) | C42: =IF('Formulario PPGR1'!$F42="","",#REF!) | D42: =IF('Formulario PPGR1'!$F42="","",#REF!) | E42: =IF('Formulario PPGR1'!$F42="","",#REF!) | G42: {=_xlfn.XLOOKUP($F42,LE_tbl[[#All],[Ls_LinesEstategica]],LE_tbl[[#All],[Le_code]],"",0)} -> #NAME? | I42: =_xlfn.XLOOKUP($H42,Obj!$D$122:$D$134,Obj!$E$122:$E$134,"",0) -> #NAME? | K42: 3.1.1.2 Programa de Seguridad Física de los establecimientos de la Red SNS | Q42: Seguridad | V42: Promoción y Cultura de Innovación
B43: =IF('Formulario PPGR1'!$F43="","",CONCATENATE('Formulario PPGR1'!$C43,".",'Formulario PPGR1'!$D43,".",'Formulario PPGR1'!$E43,".",#REF!)) | C43: =IF('Formulario PPGR1'!$F43="","",#REF!) | D43: =IF('Formulario PPGR1'!$F43="","",#REF!) | E43: =IF('Formulario PPGR1'!$F43="","",#REF!) | G43: {=_xlfn.XLOOKUP($F43,LE_tbl[[#All],[Ls_LinesEstategica]],LE_tbl[[#All],[Le_code]],"",0)} -> #NAME? | I43: =_xlfn.XLOOKUP($H43,Obj!$D$122:$D$134,Obj!$E$122:$E$134,"",0) -> #NAME? | K43: 3.1.1.3 Fortalecimiento del sistema de control interno y auditoria de la gestión | Q43: Control y Fiscalización
...

Sheet Formulario PPGR2
H2: ='Formulario PPGR1'!G2 -> Servicio Nacional de Salud
H3: ='Formulario PPGR1'!G3 -> Dirección de Planificación y Desarrollo | Z3: =IF('Formulario PPGR1'!$M$3="SNS - Dirección Central","ls_Departamento","Ls_DepartamentosSRS") -> ls_Departamento
H4: =+'Formulario PPGR1'!G4 -> Plan Operativo Anual
H5: Identificación de actividades
H6: Servicio Nacional de Salud
B8: ID_Dependendencia | C8: POA | D8: SRS | E8: AREA | F8: TIPO | G8: Productos | H8: Código | I8: Actividades Programables Presupuestables | J8: Ene | K8: Feb | L8: Mar | M8: Abr | N8: May | O8: Jun | P8: Jul | Q8: Ago | R8: Sep | S8: Oct | T8: Nov | U8: Dic | V8: Total de Acciones | W8: Medio de Verificación 1 | X8: Medio de Verificación 2 | Y8: Medio de Verificación 3 | Z8: Responsable
B9: =IF('Formulario PPGR2'!$G9="","",CONCATENATE('Formulario PPGR2'!$C9,".",'Formulario PPGR2'!$D9,".",'Formulario PPGR2'!$E9,".",'Formulario PPGR2'!$F9)) -> #REF! | D9: =IF('Formulario PPGR2'!$G9="","",'Formulario PPGR1'!#REF!) -> #REF! | E9: =IF('Formulario PPGR2'!$G9="","",'Formulario PPGR1'!#REF!) -> #REF! | F9: =IF('Formulario PPGR2'!$G9="","",'Formulario PPGR1'!#REF!) -> #REF! | G9: 1.1.1.1 Aumento de la cobertura de Adscripción en el PNA | H9: 1.1.1.1.01 | I9: Mesa trabajo para actualización de la sectorización y zonificación | M9: 1 | V9: =SUM('Formulario PPGR2'!$J9:$U9) -> 1 | W9: Listado de participación | X9: Minuta | Z9: Primer Nivel
B10: =IF('Formulario PPGR2'!$G10="","",CONCATENATE('Formulario PPGR2'!$C10,".",'Formulario PPGR2'!$D10,".",'Formulario PPGR2'!$E10,".",'Formulario PPGR2'!$F10)) -> #REF! | D10: =IF('Formulario PPGR2'!$G10="","",'Formulario PPGR1'!#REF!) -> #REF! | E10: =IF('Formulario PPGR2'!$G10="","",'Formulario PPGR1'!#REF!) -> #REF! | F10: =IF('Formulario PPGR2'!$G10="","",'Formulario PPGR1'!#REF!) -> #REF! | G10: 1.1.1.1 Aumento de la cobertura de Adscripción en el PNA | H10: 1.1.1.1.02 | I10: Actualización del proceso de sectorización y zonificación | S10: 1 | V10: =SUM('Formulario PPGR2'!$J10:$U10) -> 1 | W10: Otros | Y10: Matriz SZ-1 | Z10: Primer Nivel
B11: =IF('Formulario PPGR2'!$G11="","",CONCATENATE('Formulario PPGR2'!$C11,".",'Formulario PPGR2'!$D11,".",'Formulario PPGR2'!$E11,".",'Formulario PPGR2'!$F11)) -> #REF! | D11: =IF('Formulario PPGR2'!$G11="","",'Formulario PPGR1'!#REF!) -> #REF! | E11: =IF('Formulario PPGR2'!$G11="","",'Formulario PPGR1'!#REF!) -> #REF! | F11: =IF('Formulario PPGR2'!$G11="","",'Formulario PPGR1'!#REF!) -> #REF! | G11: 1.1.1.1 Aumento de la cobertura de Adscripción en el PNA | H11: 1.1.1.1.03 | I11: Finalización del proceso de digitación de ficha familiar | J11: 1 | K11: 1 | L11: 1 | V11: =SUM('Formulario PPGR2'!$J11:$U11) -> 3 | W11: Reporte | X11: Otros | Y11: Captura de registro del sistema | Z11: Primer Nivel
B12: =IF('Formulario PPGR2'!$G12="","",CONCATENATE('Formulario PPGR2'!$C12,".",'Formulario PPGR2'!$D12,".",'Formulario PPGR2'!$E12,".",'Formulario PPGR2'!$F12)) -> #REF! | D12: =IF('Formulario PPGR2'!$G12="","",'Formulario PPGR1'!#REF!) -> #REF! | E12: =IF('Formulario PPGR2'!$G12="","",'Formulario PPGR1'!#REF!) -> #REF! | F12: =IF('Formulario PPGR2'!$G12="","",'Formulario PPGR1'!#REF!) -> #REF! | G12: 1.1.1.1 Aumento de la cobertura de Adscripción en el PNA | H12: 1.1.1.1.04 | I12: Seguimiento al proceso de registro, actualización y digitación de población en la Ficha Familiar por zona | M12: 1 | P12: 1 | S12: 1 | U12: 1 | V12: =SUM('Formulario PPGR2'!$J12:$U12) -> 4 | W12: Informe | X12: Otros | Y12: Captura de registro del sistema | Z12: Primer Nivel
B13: =IF('Formulario PPGR2'!$G13="","",CONCATENATE('Formulario PPGR2'!$C13,".",'Formulario PPGR2'!$D13,".",'Formulario PPGR2'!$E13,".",'Formulario PPGR2'!$F13)) -> #REF! | D13: =IF('Formulario PPGR2'!$G13="","",'Formulario PPGR1'!#REF!) -> #REF! | E13: =IF('Formulario PPGR2'!$G13="","",'Formulario PPGR1'!#REF!) -> #REF! | F13: =IF('Formulario PPGR2'!$G13="","",'Formulario PPGR1'!#REF!) -> #REF! | G13: 1.1.1.2 Fortalecimiento del Primer Nivel de Atención sustentado en la implementación del Modelo de Atención | H13: 1.1.1.2.01 | I13: Capacitación a los equipos de la UNAP para el uso de los intrumentos clínicos del primer nivel. | K13: 1 | N13: 1 | Q13: 1 | T13: 1 | V13: =SUM('Formulario PPGR2'!$J13:$U13) -> 4 | W13: Listado de participación | X13: Agenda | Z13: Primer Nivel
B14: =IF('Formulario PPGR2'!$G14="","",CONCATENATE('Formulario PPGR2'!$C14,".",'Formulario PPGR2'!$D14,".",'Formulario PPGR2'!$E14,".",'Formulario PPGR2'!$F14)) -> #REF! | D14: =IF('Formulario PPGR2'!$G14="","",'Formulario PPGR1'!#REF!) -> #REF! | E14: =IF('Formulario PPGR2'!$G14="","",'Formulario PPGR1'!#REF!) -> #REF! | F14: =IF('Formulario PPGR2'!$G14="","",'Formulario PPGR1'!#REF!) -> #REF! | G14: 1.1.1.2 Fortalecimiento del Primer Nivel de Atención sustentado en la implementación del Modelo de Atención | H14: 1.1.1.2.02 | I14: Talleres de inducción a personal médico de nuevo ingreso. | K14: 1 | N14: 1 | Q14: 1 | T14: 1 | V14: =SUM('Formulario PPGR2'!$J14:$U14) -> 4 | W14: Listado de participación | X14: Agenda | Z14: Primer Nivel
B15: =IF('Formulario PPGR2'!$G15="","",CONCATENATE('Formulario PPGR2'!$C15,".",'Formulario PPGR2'!$D15,".",'Formulario PPGR2'!$E15,".",'Formulario PPGR2'!$F15)) -> #REF! | D15: =IF('Formulario PPGR2'!$G15="","",'Formulario PPGR1'!#REF!) -> #REF! | E15: =IF('Formulario PPGR2'!$G15="","",'Formulario PPGR1'!#REF!) -> #REF! | F15: =IF('Formulario PPGR2'!$G15="","",'Formulario PPGR1'!#REF!) -> #REF! | G15: 1.1.1.2 Fortalecimiento del Primer Nivel de Atención sustentado en la implementación del Modelo de Atención | H15: 1.1.1.2.03 | I15: Realización de talleres con los equipos de la UNAP y coordinadores de zona para seguimiento a la adherencia de guias y protocolos en el primer nivel | L15: 1 | O15: 1 | R15: 1 | U15: 1 | V15: =SUM('Formulario PPGR2'!$J15:$U15) -> 4 | W15: Listado de participación | X15: Informe | Y15: Detallado por zona | Z15: Primer Nivel
B16: =IF('Formulario PPGR2'!$G16="","",CONCATENATE('Formulario PPGR2'!$C16,".",'Formulario PPGR2'!$D16,".",'Formulario PPGR2'!$E16,".",'Formulario PPGR2'!$F16)) -> #REF! | D16: =IF('Formulario PPGR2'!$G16="","",'Formulario PPGR1'!#REF!) -> #REF! | E16: =IF('Formulario PPGR2'!$G16="","",'Formulario PPGR1'!#REF!) -> #REF! | F16: =IF('Formulario PPGR2'!$G16="","",'Formulario PPGR1'!#REF!) -> #REF! | G16: 1.1.1.2 Fortalecimiento del Primer Nivel de Atención sustentado en la implementación del Modelo de Atención | H16: 1.1.1.2.04 | I16: Elaboración de Análisis de Situación de Salud provincial acorde a los lineamientos establecidos por el MSP. | L16: 1 | V16: =SUM('Formulario PPGR2'!$J16:$U16) -> 1 | W16: Informe | Z16: Primer Nivel
B17: =IF('Formulario PPGR2'!$G17="","",CONCATENATE('Formulario PPGR2'!$C17,".",'Formulario PPGR2'!$D17,".",'Formulario PPGR2'!$E17,".",'Formulario PPGR2'!$F17)) -> #REF! | D17: =IF('Formulario PPGR2'!$G17="","",'Formulario PPGR1'!#REF!) -> #REF! | E17: =IF('Formulario PPGR2'!$G17="","",'Formulario PPGR1'!#REF!) -> #REF! | F17: =IF('Formulario PPGR2'!$G17="","",'Formulario PPGR1'!#REF!) -> #REF! | G17: 1.1.1.2 Fortalecimiento del Primer Nivel de Atención sustentado en la implementación del Modelo de Atención | H17: 1.1.1.2.05 | I17: Reuniones de seguimiento a las acciones en el Primer Nivel de Atención con los equipos Áreas y Zonas de Salud. | J17: 1 | M17: 1 | P17: 1 | S17: 1 | V17: =SUM('Formulario PPGR2'!$J17:$U17) -> 4 | W17: Listado de participación | X17: Minuta | Z17: Primer Nivel
B18: =IF('Formulario PPGR2'!$G18="","",CONCATENATE('Formulario PPGR2'!$C18,".",'Formulario PPGR2'!$D18,".",'Formulario PPGR2'!$E18,".",'Formulario PPGR2'!$F18)) -> #REF! | D18: =IF('Formulario PPGR2'!$G18="","",'Formulario PPGR1'!#REF!) -> #REF! | E18: =IF('Formulario PPGR2'!$G18="","",'Formulario PPGR1'!#REF!) -> #REF! | F18: =IF('Formulario PPGR2'!$G18="","",'Formulario PPGR1'!#REF!) -> #REF! | G18: 1.1.1.2 Fortalecimiento del Primer Nivel de Atención sustentado en la implementación del Modelo de Atención | H18: 1.1.1.2.06 | I18: Seguimiento a los CCDX para la el aumento de la facturación de los servicios. | L18: 1 | O18: 1 | R18: 1 | U18: 1 | V18: =SUM('Formulario PPGR2'!$J18:$U18) -> 4 | W18: Reporte | Z18: Primer Nivel
B19: =IF('Formulario PPGR2'!$G19="","",CONCATENATE('Formulario PPGR2'!$C19,".",'Formulario PPGR2'!$D19,".",'Formulario PPGR2'!$E19,".",'Formulario PPGR2'!$F19)) -> #REF! | D19: =IF('Formulario PPGR2'!$G19="","",'Formulario PPGR1'!#REF!) -> #REF! | E19: =IF('Formulario PPGR2'!$G19="","",'Formulario PPGR1'!#REF!) -> #REF! | F19: =IF('Formulario PPGR2'!$G19="","",'Formulario PPGR1'!#REF!) -> #REF! | G19: 1.1.1.2 Fortalecimiento del Primer Nivel de Atención sustentado en la implementación del Modelo de Atención | H19: 1.1.1.2.07 | I19: Seguimiento a las atenciones por curso de vida definidas en el marco del convenio con SENASA. | L19: 1 | O19: 1 | R19: 1 | U19: 1 | V19: =SUM('Formulario PPGR2'!$J19:$U19) -> 4 | W19: Informe | Z19: Primer Nivel
B20: =IF('Formulario PPGR2'!$G20="","",CONCATENATE('Formulario PPGR2'!$C20,".",'Formulario PPGR2'!$D20,".",'Formulario PPGR2'!$E20,".",'Formulario PPGR2'!$F20)) -> #REF! | D20: =IF('Formulario PPGR2'!$G20="","",'Formulario PPGR1'!#REF!) -> #REF! | E20: =IF('Formulario PPGR2'!$G20="","",'Formulario PPGR1'!#REF!) -> #REF! | F20: =IF('Formulario PPGR2'!$G20="","",'Formulario PPGR1'!#REF!) -> #REF! | G20: 1.1.1.2 Fortalecimiento del Primer Nivel de Atención sustentado en la implementación del Modelo de Atención | H20: 1.1.1.2.08 | I20: Captura, seguimiento y evaluación de la atención de Adulto Mayor en las UNAP. | L20: 1 | O20: 1 | R20: 1 | U20: 1 | V20: =SUM('Formulario PPGR2'!$J20:$U20) -> 4 | W20: Informe | Y20: Por zona de salud | Z20: Primer Nivel
B21: =IF('Formulario PPGR2'!$G21="","",CONCATENATE('Formulario PPGR2'!$C21,".",'Formulario PPGR2'!$D21,".",'Formulario PPGR2'!$E21,".",'Formulario PPGR2'!$F21)) -> #REF! | D21: =IF('Formulario PPGR2'!$G21="","",'Formulario PPGR1'!#REF!) -> #REF! | E21: =IF('Formulario PPGR2'!$G21="","",'Formulario PPGR1'!#REF!) -> #REF! | F21: =IF('Formulario PPGR2'!$G21="","",'Formulario PPGR1'!#REF!) -> #REF! | G21: 1.1.1.2 Fortalecimiento del Primer Nivel de Atención sustentado en la implementación del Modelo de Atención | H21: 1.1.1.2.09 | I21: Seguimiento a los equipo de la UNAP para el aumento de la realización de visitas domiciliarias con énfasis en programas priorizados. | L21: 1 | O21: 1 | R21: 1 | U21: 1 | V21: =SUM('Formulario PPGR2'!$J21:$U21) -> 4 | W21: Informe | Y21: Por zona de salud | Z21: Primer Nivel
B22: =IF('Formulario PPGR2'!$G22="","",CONCATENATE('Formulario PPGR2'!$C22,".",'Formulario PPGR2'!$D22,".",'Formulario PPGR2'!$E22,".",'Formulario PPGR2'!$F22)) -> #REF! | D22: =IF('Formulario PPGR2'!$G22="","",'Formulario PPGR1'!#REF!) -> #REF! | E22: =IF('Formulario PPGR2'!$G22="","",'Formulario PPGR1'!#REF!) -> #REF! | F22: =IF('Formulario PPGR2'!$G22="","",'Formulario PPGR1'!#REF!) -> #REF! | G22: 1.1.1.3 Despliegue del programa salud escolar | H22: 1.1.1.3.01 | I22: Seguimiento de las acciones para la implementación del programa Salud Escolar en los SRS Metropolitano y Norcentral. | L22: 1 | O22: 1 | R22: 1 | U22: 1 | V22: =SUM('Formulario PPGR2'!$J22:$U22) -> 4 | W22: Informe | Z22: Primer Nivel
B23: =IF('Formulario PPGR2'!$G23="","",CONCATENATE('Formulario PPGR2'!$C23,".",'Formulario PPGR2'!$D23,".",'Formulario PPGR2'!$E23,".",'Formulario PPGR2'!$F23)) -> #REF! | D23: =IF('Formulario PPGR2'!$G23="","",'Formulario PPGR1'!#REF!) -> #REF! | E23: =IF('Formulario PPGR2'!$G23="","",'Formulario PPGR1'!#REF!) -> #REF! | F23: =IF('Formulario PPGR2'!$G23="","",'Formulario PPGR1'!#REF!) -> #REF! | G23: 1.1.2.1 Programa de Fortalecimiento del Nivel Especializado | H23: 1.1.2.1.01 | I23: Seguimiento de la plataforma digital de lista de espera quirúrgica en hospitales priorizados (Traumatológico Dr. Ney Arias Lora, SRS Ozama) | M23: 1 | P23: 1 | S23: 1 | V23: =SUM('Formulario PPGR2'!$J23:$U23) -> 3 | W23: Reporte | Z23: Centros Hospitalarios
B24: =IF('Formulario PPGR2'!$G24="","",CONCATENATE('Formulario PPGR2'!$C24,".",'Formulario PPGR2'!$D24,".",'Formulario PPGR2'!$E24,".",'Formulario PPGR2'!$F24)) -> #REF! | D24: =IF('Formulario PPGR2'!$G24="","",'Formulario PPGR1'!#REF!) -> #REF! | E24: =IF('Formulario PPGR2'!$G24="","",'Formulario PPGR1'!#REF!) -> #REF! | F24: =IF('Formulario PPGR2'!$G24="","",'Formulario PPGR1'!#REF!) -> #REF! | G24: 1.1.2.1 Programa de Fortalecimiento del Nivel Especializado | H24: 1.1.2.1.02 | I24: Seguimiento a la elaboracion y ejecución del plan de mejora para la disminución de lista de espera | N24: 1 | Q24: 1 | U24: 1 | V24: =SUM('Formulario PPGR2'!$J24:$U24) -> 3 | W24: Informe | Z24: Centros Hospitalarios
B25: =IF('Formulario PPGR2'!$G25="","",CONCATENATE('Formulario PPGR2'!$C25,".",'Formulario PPGR2'!$D25,".",'Formulario PPGR2'!$E25,".",'Formulario PPGR2'!$F25)) -> #REF! | D25: =IF('Formulario PPGR2'!$G25="","",'Formulario PPGR1'!#REF!) -> #REF! | E25: =IF('Formulario PPGR2'!$G25="","",'Formulario PPGR1'!#REF!) -> #REF! | F25: =IF('Formulario PPGR2'!$G25="","",'Formulario PPGR1'!#REF!) -> #REF! | G25: 1.1.2.1 Programa de Fortalecimiento del Nivel Especializado | H25: 1.1.2.1.03 | I25: Análisis del comportamiento de las objeciones médicas y administrativas (SENASA) y otras ARS del régimen Contributivo | J25: 1 | K25: 1 | L25: 1 | M25: 1 | N25: 1 | O25: 1 | P25: 1 | Q25: 1 | R25: 1 | S25: 1 | T25: 1 | U25: 1 | V25: =SUM('Formulario PPGR2'!$J25:$U25) -> 12 | W25: Informe | Z25: Centros Hospitalarios
B26: =IF('Formulario PPGR2'!$G26="","",CONCATENATE('Formulario PPGR2'!$C26,".",'Formulario PPGR2'!$D26,".",'Formulario PPGR2'!$E26,".",'Formulario PPGR2'!$F26)) -> #REF! | D26: =IF('Formulario PPGR2'!$G26="","",'Formulario PPGR1'!#REF!) -> #REF! | E26: =IF('Formulario PPGR2'!$G26="","",'Formulario PPGR1'!#REF!) -> #REF! | F26: =IF('Formulario PPGR2'!$G26="","",'Formulario PPGR1'!#REF!) -> #REF! | G26: 1.1.2.1 Programa de Fortalecimiento del Nivel Especializado | H26: 1.1.2.1.04 | I26: Seguimiento a la elaboración de los planes de mejora para la disminución de las objeciones médicas, administrativas y el incremento de la facturación de los CEAS | O26: 1 | U26: 1 | V26: =SUM('Formulario PPGR2'!$J26:$U26) -> 2 | W26: Reporte | X26: Plan | Z26: Centros Hospitalarios
B27: =IF('Formulario PPGR2'!$G27="","",CONCATENATE('Formulario PPGR2'!$C27,".",'Formulario PPGR2'!$D27,".",'Formulario PPGR2'!$E27,".",'Formulario PPGR2'!$F27)) -> #REF! | D27: =IF('Formulario PPGR2'!$G27="","",'Formulario PPGR1'!#REF!) -> #REF! | E27: =IF('Formulario PPGR2'!$G27="","",'Formulario PPGR1'!#REF!) -> #REF! | F27: =IF('Formulario PPGR2'!$G27="","",'Formulario PPGR1'!#REF!) -> #REF! | G27: 1.1.2.1 Programa de Fortalecimiento del Nivel Especializado | H27: 1.1.2.1.05 | I27: Seguimiento a la ejecución de los planes de mejora para la disminucion de las glosas y el incremento de la facturación de los CEAS. | P27: 1 | U27: 1 | V27: =SUM('Formulario PPGR2'!$J27:$U27) -> 2 | W27: Informe | X27: Plan | Z27: Centros Hospitalarios
B28: =IF('Formulario PPGR2'!$G28="","",CONCATENATE('Formulario PPGR2'!$C28,".",'Formulario PPGR2'!$D28,".",'Formulario PPGR2'!$E28,".",'Formulario PPGR2'!$F28)) -> #REF! | D28: =IF('Formulario PPGR2'!$G28="","",'Formulario PPGR1'!#REF!) -> #REF! | E28: =IF('Formulario PPGR2'!$G28="","",'Formulario PPGR1'!#REF!) -> #REF! | F28: =IF('Formulario PPGR2'!$G28="","",'Formulario PPGR1'!#REF!) -> #REF! | G28: 1.1.2.1 Programa de Fortalecimiento del Nivel Especializado | H28: 1.1.2.1.06 | I28: Levantamiento de hospitales para conocer estatus de la contratacion de las ARS | P28: 1 | V28: =SUM('Formulario PPGR2'!$J28:$U28) -> 1 | W28: Otros | Y28: Matriz de ARS contratadas por hospital | Z28: Centros Hospitalarios
B29: =IF('Formulario PPGR2'!$G29="","",CONCATENATE('Formulario PPGR2'!$C29,".",'Formulario PPGR2'!$D29,".",'Formulario PPGR2'!$E29,".",'Formulario PPGR2'!$F29)) -> #REF! | D29: =IF('Formulario PPGR2'!$G29="","",'Formulario PPGR1'!#REF!) -> #REF! | E29: =IF('Formulario PPGR2'!$G29="","",'Formulario PPGR1'!#REF!) -> #REF! | F29: =IF('Formulario PPGR2'!$G29="","",'Formulario PPGR1'!#REF!) -> #REF! | G29: 1.1.2.1 Programa de Fortalecimiento del Nivel Especializado | H29: 1.1.2.1.07 | I29: Seguimiento a la implementacion del proceso de prefactura para la optimizacion y efectividad del proceso de factura en los centros priorizados. | M29: 1 | P29: 1 | R29: 1 | U29: 1 | V29: =SUM('Formulario PPGR2'!$J29:$U29) -> 4 | W29: Informe | Z29: Centros Hospitalarios
B30: =IF('Formulario PPGR2'!$G30="","",CONCATENATE('Formulario PPGR2'!$C30,".",'Formulario PPGR2'!$D30,".",'Formulario PPGR2'!$E30,".",'Formulario PPGR2'!$F30)) -> #REF! | D30: =IF('Formulario PPGR2'!$G30="","",'Formulario PPGR1'!#REF!) -> #REF! | E30: =IF('Formulario PPGR2'!$G30="","",'Formulario PPGR1'!#REF!) -> #REF! | F30: =IF('Formulario PPGR2'!$G30="","",'Formulario PPGR1'!#REF!) -> #REF! | G30: 1.1.2.2 Operaciones de emergencias y gestión de riesgos | H30: 1.1.2.2.01 | I30: Reunion de coordinación para la gestión de la red de emergencias médicas de su demarcación | P30: 1 | V30: =SUM('Formulario PPGR2'!$J30:$U30) -> 1 | W30: Listado de participación | X30: Minuta | Z30: Emergencias
B31: =IF('Formulario PPGR2'!$G31="","",CONCATENATE('Formulario PPGR2'!$C31,".",'Formulario PPGR2'!$D31,".",'Formulario PPGR2'!$E31,".",'Formulario PPGR2'!$F31)) -> #REF! | D31: =IF('Formulario PPGR2'!$G31="","",'Formulario PPGR1'!#REF!) -> #REF! | E31: =IF('Formulario PPGR2'!$G31="","",'Formulario PPGR1'!#REF!) -> #REF! | F31: =IF('Formulario PPGR2'!$G31="","",'Formulario PPGR1'!#REF!) -> #REF! | G31: 1.1.2.2 Operaciones de emergencias y gestión de riesgos | H31: 1.1.2.2.02 | I31: Reunion de Coordinación de la implementación del Modelo Integrado de Atención de Emergencias y Urgencias | P31: 1 | U31: 1 | V31: =SUM('Formulario PPGR2'!$J31:$U31) -> 2 | W31: Listado de participación | X31: Minuta | Z31: Emergencias
B32: =IF('Formulario PPGR2'!$G32="","",CONCATENATE('Formulario PPGR2'!$C32,".",'Formulario PPGR2'!$D32,".",'Formulario PPGR2'!$E32,".",'Formulario PPGR2'!$F32)) -> #REF! | D32: =IF('Formulario PPGR2'!$G32="","",'Formulario PPGR1'!#REF!) -> #REF! | E32: =IF('Formulario PPGR2'!$G32="","",'Formulario PPGR1'!#REF!) -> #REF! | F32: =IF('Formulario PPGR2'!$G32="","",'Formulario PPGR1'!#REF!) -> #REF! | G32: 1.1.2.2 Operaciones de emergencias y gestión de riesgos | H32: 1.1.2.2.03 | I32: Supervisión de Oficiales RAC-Triaje y la implementación de RAC-Triaje en Salas de Emergencias Hospitalarias | L32: 1 | O32: 1 | R32: 1 | V32: =SUM('Formulario PPGR2'!$J32:$U32) -> 3 | W32: Reporte | X32: Otros | Y32: Formularios | Z32: Emergencias
B33: =IF('Formulario PPGR2'!$G33="","",CONCATENATE('Formulario PPGR2'!$C33,".",'Formulario PPGR2'!$D33,".",'Formulario PPGR2'!$E33,".",'Formulario PPGR2'!$F33)) -> #REF! | D33: =IF('Formulario PPGR2'!$G33="","",'Formulario PPGR1'!#REF!) -> #REF! | E33: =IF('Formulario PPGR2'!$G33="","",'Formulario PPGR1'!#REF!) -> #REF! | F33: =IF('Formulario PPGR2'!$G33="","",'Formulario PPGR1'!#REF!) -> #REF! | G33: 1.1.2.2 Operaciones de emergencias y gestión de riesgos | H33: 1.1.2.2.04 | I33: Supervisión al llenado de historia clinica de emergencias, reporte de indicadores y del registro de los pacientes en el libro de emergencias | P33: 1 | T33: 1 | V33: =SUM('Formulario PPGR2'!$J33:$U33) -> 2 | W33: Reporte | Z33: Emergencias
B34: =IF('Formulario PPGR2'!$G34="","",CONCATENATE('Formulario PPGR2'!$C34,".",'Formulario PPGR2'!$D34,".",'Formulario PPGR2'!$E34,".",'Formulario PPGR2'!$F34)) -> #REF! | D34: =IF('Formulario PPGR2'!$G34="","",'Formulario PPGR1'!#REF!) -> #REF! | E34: =IF('Formulario PPGR2'!$G34="","",'Formulario PPGR1'!#REF!) -> #REF! | F34: =IF('Formulario PPGR2'!$G34="","",'Formulario PPGR1'!#REF!) -> #REF! | G34: 1.1.2.2 Operaciones de emergencias y gestión de riesgos | H34: 1.1.2.2.05 | I34: Supervisión procedimiento de entrega, recibo y reposicion de carro de paro en salas de emergencias | O34: 1 | S34: 1 | V34: =SUM('Formulario PPGR2'!$J34:$U34) -> 2 | W34: Otros | Y34: Formularios | Z34: Emergencias
B35: =IF('Formulario PPGR2'!$G35="","",CONCATENATE('Formulario PPGR2'!$C35,".",'Formulario PPGR2'!$D35,".",'Formulario PPGR2'!$E35,".",'Formulario PPGR2'!$F35)) -> #REF! | D35: =IF('Formulario PPGR2'!$G35="","",'Formulario PPGR1'!#REF!) -> #REF! | E35: =IF('Formulario PPGR2'!$G35="","",'Formulario PPGR1'!#REF!) -> #REF! | F35: =IF('Formulario PPGR2'!$G35="","",'Formulario PPGR1'!#REF!) -> #REF! | G35: 1.1.2.2 Operaciones de emergencias y gestión de riesgos | H35: 1.1.2.2.06 | I35: Monitoreo del tablero de Indicadores de Gestión de las Salas de Emergencias Hospitalaria | L35: 1 | O35: 1 | R35: 1 | U35: 1 | V35: =SUM('Formulario PPGR2'!$J35:$U35) -> 4 | W35: Reporte | Z35: Emergencias
B36: =IF('Formulario PPGR2'!$G36="","",CONCATENATE('Formulario PPGR2'!$C36,".",'Formulario PPGR2'!$D36,".",'Formulario PPGR2'!$E36,".",'Formulario PPGR2'!$F36)) -> #REF! | D36: =IF('Formulario PPGR2'!$G36="","",'Formulario PPGR1'!#REF!) -> #REF! | E36: =IF('Formulario PPGR2'!$G36="","",'Formulario PPGR1'!#REF!) -> #REF! | F36: =IF('Formulario PPGR2'!$G36="","",'Formulario PPGR1'!#REF!) -> #REF! | G36: 1.1.2.2 Operaciones de emergencias y gestión de riesgos | H36: 1.1.2.2.07 | I36: Seguimiento del Plan de Mejora de los Servicios de emergencias Centros hospitalario | K36: 1 | S36: 1 | V36: =SUM('Formulario PPGR2'!$J36:$U36) -> 2 | W36: Plan | X36: Listado de participación | Y36: Reporte | Z36: Emergencias
B37: =IF('Formulario PPGR2'!$G37="","",CONCATENATE('Formulario PPGR2'!$C37,".",'Formulario PPGR2'!$D37,".",'Formulario PPGR2'!$E37,".",'Formulario PPGR2'!$F37)) -> #REF! | D37: =IF('Formulario PPGR2'!$G37="","",'Formulario PPGR1'!#REF!) -> #REF! | E37: =IF('Formulario PPGR2'!$G37="","",'Formulario PPGR1'!#REF!) -> #REF! | F37: =IF('Formulario PPGR2'!$G37="","",'Formulario PPGR1'!#REF!) -> #REF! | G37: 1.1.2.2 Operaciones de emergencias y gestión de riesgos | H37: 1.1.2.2.08 | I37: Seguimiento a la elaboración y/o actualización de los Planes de Emergencias de Salud y Desastres Naturales ORS y CEAS | L37: 1 | V37: =SUM('Formulario PPGR2'!$J37:$U37) -> 1 | W37: Informe | X37: Otros | Y37: Plan en registro digital | Z37: Emergencias
B38: =IF('Formulario PPGR2'!$G38="","",CONCATENATE('Formulario PPGR2'!$C38,".",'Formulario PPGR2'!$D38,".",'Formulario PPGR2'!$E38,".",'Formulario PPGR2'!$F38)) -> #REF! | D38: =IF('Formulario PPGR2'!$G38="","",'Formulario PPGR1'!#REF!) -> #REF! | E38: =IF('Formulario PPGR2'!$G38="","",'Formulario PPGR1'!#REF!) -> #REF! | F38: =IF('Formulario PPGR2'!$G38="","",'Formulario PPGR1'!#REF!) -> #REF! | G38: 1.1.2.2 Operaciones de emergencias y gestión de riesgos | H38: 1.1.2.2.09 | I38: Supervisión y seguimiento a la funcionalidad de los Planes de Emergencias y Desastres Hospitalarios a traves de simulacros | S38: 1 | V38: =SUM('Formulario PPGR2'!$J38:$U38) -> 1 | W38: Informe | Z38: Emergencias
B39: =IF('Formulario PPGR2'!$G39="","",CONCATENATE('Formulario PPGR2'!$C39,".",'Formulario PPGR2'!$D39,".",'Formulario PPGR2'!$E39,".",'Formulario PPGR2'!$F39)) -> #REF! | D39: =IF('Formulario PPGR2'!$G39="","",'Formulario PPGR1'!#REF!) -> #REF! | E39: =IF('Formulario PPGR2'!$G39="","",'Formulario PPGR1'!#REF!) -> #REF! | F39: =IF('Formulario PPGR2'!$G39="","",'Formulario PPGR1'!#REF!) -> #REF! | G39: 1.1.2.2 Operaciones de emergencias y gestión de riesgos | H39: 1.1.2.2.10 | I39: Reunión de coordinación de Operativo Feriado Navidad y Año Nuevo | U39: 1 | V39: =SUM('Formulario PPGR2'!$J39:$U39) -> 1 | W39: Listado de participación | X39: Minuta | Z39: Emergencias
B40: =IF('Formulario PPGR2'!$G40="","",CONCATENATE('Formulario PPGR2'!$C40,".",'Formulario PPGR2'!$D40,".",'Formulario PPGR2'!$E40,".",'Formulario PPGR2'!$F40)) -> #REF! | D40: =IF('Formulario PPGR2'!$G40="","",'Formulario PPGR1'!#REF!) -> #REF! | E40: =IF('Formulario PPGR2'!$G40="","",'Formulario PPGR1'!#REF!) -> #REF! | F40: =IF('Formulario PPGR2'!$G40="","",'Formulario PPGR1'!#REF!) -> #REF! | G40: 1.1.2.2 Operaciones de emergencias y gestión de riesgos | H40: 1.1.2.2.11 | I40: Reunion de coordinación preparativos Operativo Semana Santa | L40: 1 | V40: =SUM('Formulario PPGR2'!$J40:$U40) -> 1 | W40: Listado de participación | X40: Minuta | Z40: Emergencias
B41: =IF('Formulario PPGR2'!$G41="","",CONCATENATE('Formulario PPGR2'!$C41,".",'Formulario PPGR2'!$D41,".",'Formulario PPGR2'!$E41,".",'Formulario PPGR2'!$F41)) -> #REF! | D41: =IF('Formulario PPGR2'!$G41="","",'Formulario PPGR1'!#REF!) -> #REF! | E41: =IF('Formulario PPGR2'!$G41="","",'Formulario PPGR1'!#REF!) -> #REF! | F41: =IF('Formulario PPGR2'!$G41="","",'Formulario PPGR1'!#REF!) -> #REF! | G41: 1.1.2.2 Operaciones de emergencias y gestión de riesgos | H41: 1.1.2.2.12 | I41: Reunion coordinación preparativos y pespuesta a Temporada Ciclónica y Eventos de Salud Pública consecuentes | N41: 1 | V41: =SUM('Formulario PPGR2'!$J41:$U41) -> 1 | W41: Listado de participación | X41: Minuta | Z41: Emergencias
